BEGIN:VCALENDAR
VERSION:2.0
PRODID:-//YourOrganization//EventDownload//DE
CALSCALE:GREGORIAN
METHOD:PUBLISH
BEGIN:VEVENT
UID:69e50f293a96f@leapup.bitshifters.cloud
DTSTAMP:20260419T192145Z
DTSTART:20241126T090000Z
DTEND:20241126T163000Z
SUMMARY:KI-Kompetenz: ChatGPT Praxis für Unternehmen
DESCRIPTION:Vertiefen Sie Ihr Verst&auml\;ndnis und Ihre praktischen F&auml\;higkeiten im Umgang mit K&uuml\;nstlicher Intelligenz und Generativen KI-Systemen durch eine umfassende Einf&uuml\;hrung in Large Language Models wie ChatGPT. Dieser Workshop bietet einen &Uuml\;berblick &uuml\;ber die Grundlagen der KI\, rechtliche Rahmenbedingungen und effektives Prompt Engineering\, erg&auml\;nzt durch interaktive Anwendungspraxis und die Erkundung erweiterter Funktionen von ChatGPT Plus sowie weiterf&uuml\;hrender KI-Tools.\nAls Expertin f&uuml\;r IoT und K&uuml\;nstliche Intelligenz (AIoT) bringt Fatlinda Nikqi umfassende Erfahrung im Change-Management und der digitalen Transformation mit. Sie leitet Workshops\, die digitale Kompetenzen sowie Werte wie Offenheit\, Resilienz und soziale Verantwortung f&ouml\;rdern. Au&szlig\;erdem hat sie sich fr&uuml\;h mit dem Thema digitale Bildung besch&auml\;ftigt und im Bereich E-Learning viele Erfahrungen gesammelt. Ihr Hintergrund als Kind von Einwanderern hat sie gelehrt\, Unsicherheiten zu meistern und neue Perspektiven zu sch&auml\;tzen. Fatlinda Nikqi setzt sich daf&uuml\;r ein\, dass niemand in der digitalen Transformation zur&uuml\;ckgelassen wird\, und freut sich darauf\, ihre Motivation als Dozentin oder Beraterin weiterzugeben.\nWichtige Hinweise: \nBitte bringen Sie Ihren eigenen Laptop mit und registrieren sich vorab bei ChatGPT.\nDiese Veranstaltung ist kostenpflichtig!\nMitglieder: 550\,00 EUR (netto)NICHT-Mitglieder: 600\,00 EUR (netto)\nMelden Sie sich jetzt an!
LOCATION:BIO CITY Leipzig\, Deutscher Platz 5\, 04103 Leipzig
END:VEVENT
END:VCALENDAR
