BEGIN:VCALENDAR
VERSION:2.0
PRODID:-//YourOrganization//EventDownload//DE
CALSCALE:GREGORIAN
METHOD:PUBLISH
BEGIN:VEVENT
UID:69e4f8865d8af@leapup.bitshifters.cloud
DTSTAMP:20260419T174510Z
DTSTART:20250923T090000Z
DTEND:20250923T163000Z
SUMMARY:KI-Kompetenz: ChatGPT Praxis für Unternehmen
DESCRIPTION:Zum Thema:Vertiefen Sie Ihr Verständnis und Ihre praktischen Fähigkeiten im Umgang mit Künstlicher Intelligenz und Generativen KI-Systemen durch eine umfassende Einführung in Large Language Models wie ChatGPT. Dieser Workshop bietet einen Überblick über die Grundlagen der KI\, rechtliche Rahmenbedingungen und effektives Prompt Engineering\, ergänzt durch interaktive Anwendungspraxis und die Erkundung erweiterter Funktionen von ChatGPT Plus sowie weiterführender KI-Tools.\nDarüber hinaus dient der Workshop KI Themen im Bereich Gesundheit zu besprechen und alles in allem ein positives Digital-Mindset zu entwickeln/ beizubehalten.\nWichtige Hinweise:Bitte bringen Sie Ihren eigenen Laptop mit und registrieren sich vorab bei ChatGPT (Anmeldung mit Google\, Apple oder Microsoft-Konto möglich oder mit E-Mail-Adresse plus Handynummer).https://chatgpt.com/auth/login\nNutzen\n\nSie erlangen fundierte Kenntnisse über den Einsatz und die Möglichkeiten von KI in geschäftlichen Kontexten.\nSie entwickeln praktische Fähigkeiten in der Anwendung von ChatGPT und lernen KI-Tools zur Optimierung von Geschäftsprozessen kennen.\n\nInhalt\n\nGrundlagen Künstlicher Intelligenz und Generativer\nEinführung in Large Language Models (LLMs) und ChatGPT\nEinblick in rechtliche Rahmenbedingungen\nTechniken des Prompt Engineering\nDirekte Anwendungspraxis und Übungen\nErweiterung der Kenntnisse durch ChatGPT Plus Funktionen\nVorstellung weiterführender KI-Tools\nKI-Zukunftsaussichten im Health Bereich\nInteraktive Frage- und Diskussionsrunde\n\nMethodik:Theorieeinheiten und praktische Übungen\, interaktive Frage- und Diskussionsrunde\nIhre Dozentin:Frau Fatlinda Nikqi\nTeilnehmergebühr:\n\nbiosaxony e.V. Mitglieder: 400 EUR (netto)\nNichtmitglieder: 450 EUR (netto)\n\n--- Der Workshop wird in deutscher Sprache angeboten. ---
LOCATION:BIO CITY Leipzig\, Deutscher Platz 5c\, 04103 Leipzig
END:VEVENT
END:VCALENDAR
