BEGIN:VCALENDAR
VERSION:2.0
PRODID:-//YourOrganization//EventDownload//DE
CALSCALE:GREGORIAN
METHOD:PUBLISH
BEGIN:VEVENT
UID:69e4c2a484a22@leapup.bitshifters.cloud
DTSTAMP:20260419T135516Z
DTSTART:20240313T150000Z
DTEND:20240313T160000Z
SUMMARY:KI-Lösungen in der Edge – Eine systematische Leistungsbewertung
DESCRIPTION:F&uuml\;r viele industrielle KI-Anwendungen ist eine Datenanalyse in der Cloud heute keine Option. Insbesondere beim Erfassen und Analysieren von Schwingungen an Maschinen sind aufgrund hoher Abtastraten bei der Sensordatenerfassung Edge Devices gefragt. Aber welche Hardware bietet f&uuml\;r eine konkrete KI-Anwendung die passende Leistung und die niedrigsten Kosten? Im Webinar werden aktuell am Markt verf&uuml\;gbare Edge Devices vorgestellt und ihre Besonderheiten diskutiert. Anhand von Anwendungsbeispielen werden Ans&auml\;tze f&uuml\;r eine systematische Leistungsbewertung erl&auml\;utert und M&ouml\;glichkeiten vorgestellt\, KI-Modelle auf die Besonderheiten der Hardwarearchitektur abzustimmen und damit den Energie- und Kostenbedarf zu minimieren.\nWeitere Informationen
LOCATION:Fraunhofer IIS/EAS\, Münchner Straße 16\, 01187 Dresden Dresden
END:VEVENT
END:VCALENDAR
