BEGIN:VCALENDAR
VERSION:2.0
PRODID:-//YourOrganization//EventDownload//DE
CALSCALE:GREGORIAN
METHOD:PUBLISH
BEGIN:VEVENT
UID:69e4c8fbcb5f3@leapup.bitshifters.cloud
DTSTAMP:20260419T142219Z
DTSTART:20240911T180000Z
DTEND:20240913T150000Z
SUMMARY:KI und Elektronik für die Medizin 2024
DESCRIPTION:Der Standort Dresden hat in den letzten Jahren in den Bereichen Digital Health\, Gesundheitselektronik und medizinische KI deutlich an Fahrt gewonnen. Zu den neuen und bemerkenswerten Einrichtungen und Projekten gehören das Else Kr&ouml\;ner Fresenius Center for Digital Health\, der BMBF Cluster4Future "Sichere Medizinische Elektronik und Kommunikation (SEMECO)" sowie mehrere europäische und nationale Projekte zu medizinischer KI\, Regulatory Affairs\, Medical Cloud und Elektronik. Um eine Plattform zu bieten und&nbsp\;den Austausch in dieser wachsenden Community zu fördern\, bündeln wir ein umfangreiches Programm in der Konferenz:&nbsp\;KI und Elektronik für die Medizin.&nbsp\;&nbsp\;Das Treffen wird interdisziplinär auf mehreren Ebenen sein: Von Fachleuten aus dem Gesundheitswesen\, die die medizinische Praxis verbessern wollen\, bis hin zu Hightech-Spezialisten\, von Studenten bis zu führenden Forschern und Industrieexperten. Wir sind stolz darauf\, die etablierte MedTech- und Mikroelektronikindustrie mit der akademischen und industriellen Forschung und dem aufstrebenden lokalen MedTech-Start-up-Umfeld zu vereinen.\nJetzt anmelden!
LOCATION:CRTD Zentrum für Regenerative Therapien TU Dresden\, Fetscherstraße 105\, 01307 Dresden
END:VEVENT
END:VCALENDAR
