BEGIN:VCALENDAR
VERSION:2.0
PRODID:-//YourOrganization//EventDownload//DE
CALSCALE:GREGORIAN
METHOD:PUBLISH
BEGIN:VEVENT
UID:69e5357b92a39@leapup.bitshifters.cloud
DTSTAMP:20260419T220515Z
DTSTART:20231110T090000Z
DTEND:20231111T160000Z
SUMMARY:Klassisches Projektmanagement
DESCRIPTION:Gemeinsam mit der RKW Sachsen GmbH veranstaltet biosaxony am 01. &amp\; 02. August 2023\, jeweils von 09:00-16:00 Uhr\, ein 2-t&auml\;giges Projektmanagement-Training in der BIO CITY Leipzig.\nREFERENT: (Dipl.-Ing. (FH) Lutz Voigtmann\, Senior Consultant\, RKW Sachsen GmbH\nINHALT: Im Unternehmensalltag oder im Rahmen der Planung und Steuerung von Entwicklungsvorhaben ist Projektmanagement ist ein wichtiges Steuerinstrument. Es dient dazu Projektziele zu erreichen\, und zwar innerhalb der zu erwarteten Leistungsziele f&uuml\;r Zeit\, Kosten\, Qualit&auml\;t\, Umfang\, Nutzen und Risiken.\nDieses Kompakttraining ist f&uuml\;r Projektmitarbeiter und Projektleiter ausgelegt\, die sich einen tieferen Einblick &uuml\;ber die wesentlichen PM-Instrumente anhand von Projektbeispielen verschaffen m&ouml\;chten.\nAGENDA:\n\nProjekt und Projektmanagement\nProjektstart\nProjektziele\nProjektumfeld und Stakeholder\nRisiken\nPhasenplanung\nProjektstrukturierung\nProjektorganisation\nAblauf- und Terminplanung\nRessourcenplanung\nKostenplanung\nProjektsteuerung und &ndash\;controlling\n&Auml\;nderungen und Claims\nProjektabschluss\n\nAls Kursliteratur erhalten die Teilnehmer das Buch &bdquo\;Projekte &ndash\; praktisch &amp\; professionell. Projektmanagement nach ICB 3.0&ldquo\;.\nTEILNEHMERGEB&Uuml\;HR:\nBIOSAXONY Mitglieder: 475\,00 &euro\; (netto)NICHT-Mitglieder: 550\,00 &euro\; (netto)\nIn der Teilnahmegeb&uuml\;hr sind Literatur\, Seminarunterlagen\, Getr&auml\;nke und ein Mittagessen enthalten.\nTEILNAHMEBEDINGUNGEN:\nAnmeldung unter events@biosaxony.com.\nAnmeldefrist: 31.10.2023\nEine Stornierung der Anmeldung bleibt bis zum jeweiligen Anmeldeschluss kostenfrei. Bei einer Stornierung nach dem Anmeldeschluss werden 50% des Kurspreises f&auml\;llig. Bei unentschuldigten Nichterscheinen ist der komplette Kurspreis f&auml\;llig.\nDie Teilnehmerzahl f&uuml\;r die Veranstaltung ist auf max. 12 Teilnehmer begrenzt. Anmeldungen werden in der Reihenfolge ihres Eingangs ber&uuml\;cksichtigt.&nbsp\;\nBitte beachten Sie die Veranstaltungs-AGB des biosaxony e. V.
LOCATION:BIO CITY LEIPZIG\, Deutscher Platz 5\, 04103 Leipzig
END:VEVENT
END:VCALENDAR
