BEGIN:VCALENDAR
VERSION:2.0
PRODID:-//YourOrganization//EventDownload//DE
CALSCALE:GREGORIAN
METHOD:PUBLISH
BEGIN:VEVENT
UID:69e62d1893df9@leapup.bitshifters.cloud
DTSTAMP:20260420T154144Z
DTSTART:20180621T100000Z
DTEND:20180621T183000Z
SUMMARY:Klinik sucht Diagnostik: Biomarker-Trends & Perspektiven für die personalisierte Medizin | Forum Companion Diagnostics
DESCRIPTION:Sie verfügen über innovative Technologien und suchen Kooperationen\, um Ihre Entwicklungsprojekte optimal umzusetzen und neue biomarkerbasierte Tests in die Routine zu überführen? Oder Sie wollen sich über aktuelle Biomarker-Trends informieren und mehr darüber erfahren\, was es bei der Entwicklung medizinischer Apps zu beachten gilt oder wie sich die neue EU IVD-Verordnung künftig auf die Entwicklung von Companion Diagnostics und die Zusammenarbeit mit der Pharma-Industrie auswirkt? Dann bietet das Forum Companion Diagnostics am 21. Juni in Berlin eine geeignete Plattform. Hier treffen sich innovative Diagnostik-Hersteller mit Akteuren der klinischen Forschung sowie mit Vertretern von Anwaltskanzleien\, Branchenverbänden und Pharma-Unternehmen\, um intensiv zu diskutieren\, sich auszutauschen und gemeinsam F&amp\;E-Projekte zu initiieren.\nWir freuen uns auf Ihre Teilnahme!
LOCATION:Ludwig-Erhard-Haus\, Fasanenstraße 85\, 10623 Berlin
END:VEVENT
END:VCALENDAR
