BEGIN:VCALENDAR
VERSION:2.0
PRODID:-//YourOrganization//EventDownload//DE
CALSCALE:GREGORIAN
METHOD:PUBLISH
BEGIN:VEVENT
UID:69e8e1a4353d3@leapup.bitshifters.cloud
DTSTAMP:20260422T165636Z
DTSTART:20190827T090000Z
DTEND:20190827T170000Z
SUMMARY:Klinische Bewertung von Medizinprodukten nach MEDDEV 2.7.1 Rev. 4 - konform zur MDR und MDD
DESCRIPTION:Als Hersteller bzw. Inverkehr-Bringer von Medizinprodukten sind Sie verpflichtet\, Ihre Produkte hinsichtlich der klinischen Wirksamkeit und Sicherheit zu bewerten. Eine Möglichkeit bildet die systematische Auswertung der wissenschaftlichen Literatur.\nIn unserem Seminar steht die Diskussion der MEDDEV-Leitlinie 2.7.1 Rev. 4 im Mittelpunkt\, die Sie befähigen soll\, eine Literaturbewertung für Ihr Produkt durchzuführen. Das vermittelte theoretische Wissen können Sie bei praktischen Übungen umsetzen.\nINHALT:\n\nAnforderungen aus der Richtlinie 93/42/EWG und der Verordnung 2017/745\nLiteraturbewertung entsprechend MEDDEV 2.7.1 Rev. 4\npraktische Übungen\n\nPREIS:\nbiosaxony-Mitglieder erhalten einen Rabatt von 4%.\nBIOSAXONY Mitglieder: 432 € (netto) NICHT-Mitglieder: 450 € (netto)\nBitte nutzen Sie für Ihre Anmeldung unsere hier verlinkte online Registrierung.
LOCATION:SLG Akademie GmbH\, Burgstädter Straße 20\, 09232 Hartmannsdorf
END:VEVENT
END:VCALENDAR
