BEGIN:VCALENDAR
VERSION:2.0
PRODID:-//YourOrganization//EventDownload//DE
CALSCALE:GREGORIAN
METHOD:PUBLISH
BEGIN:VEVENT
UID:69e4fd6e8627d@leapup.bitshifters.cloud
DTSTAMP:20260419T180606Z
DTSTART:20250902T140000Z
DTEND:20250902T160000Z
SUMMARY:Kompetenzwerk Steriltechnik Treffen | „Biomaterialien & Sterilisation: Standards\, Strategien\, Lösungen“
DESCRIPTION:Die Sterilisation von Biomaterialien ist ein entscheidender Schritt bei der Herstellung sicherer und zuverlässiger Medizinprodukte. Vorgeschriebene Standards spielen dabei eine zentrale Rolle\, um die Wirksamkeit der Sterilisationsverfahren und die Unversehrtheit der Materialien sicherzustellen. Die Wahl geeigneter Sterilisationsstrategien muss stets individuell an die spezifischen Eigenschaften des Biomaterials und den späteren Einsatzzweck angepasst werden.\nIm Spannungsfeld zwischen Materialverträglichkeit\, Sterilitätssicherung und regulatorischen Anforderungen sind praxisorientierte Lösungen gefragt\, die den hohen Qualitätsanforderungen gerecht werden. Durch moderne Ansätze und optimierte Abläufe können Entwicklungszeiten verkürzt und die Markteinführung neuer Produkte beschleunigt werden.\nWir möchten im Rahmen des Kompetenzwerkes Steriltechnik weiter für dieses Thema sensibilieren.\nDaher laden wir Sie herzlich zu unserer nächsten Veranstaltung am 02. September 2025 zum Thema Biomaterialien &amp\; Sterilisation: Standards\, Strategien\, Lösungen ein.\nJETZT ANMELDEN: Biomaterialien &amp\; Sterilisation: Standards\, Strategien\, Lösungen | 02.09.2025 | 14:00 Uhr\nAgenda  \n\nBegrüßung: (Dr. Carola Graf | Dr. Romina Piscitello Gómez (leap:up GmbH) und Dr.-Ing. Gaby Gotzmann (Fraunhofer FEP)\nFachvortrag: Dr. Ina Prade (FILK Freiberg Institute gGmbH) – „Bioaktiv und trotzdem steril: Innovative Verfahren für moderne Biomaterialien“\nFachvortrag: Dr. Sylke Roth-Eichhorn (Dresden | GSK Deutschland) – „GMP Annex 1-konforme Sterilfiltration bei der Abfüllung von Impfstoffen“\nFührung FILK Freiberg Institute gGmbH: Dr. Birgit Voigt - Institutsführung für die Biobereiche\n\nLassen Sie uns gemeinsam einen offenen Raum für Diskussionen\, Networking\, und Austausch von fachlichen Informationen zum Thema schaffen. Wir freuen uns\, Sie zu unserem Netzwerkevent begrüßen zu dürfen und bedanken uns zudem bei unserem diesmaligen Gastgeber FILK Freiberg Institute gGmbH​​​​​​​.\nDie Veranstaltung ist kostenfrei.
LOCATION:FILK Freiberg Institute gGmbH\, Raum A1_201\, Meißner Ring 1-5\, 09599 Freiberg
END:VEVENT
END:VCALENDAR
