BEGIN:VCALENDAR
VERSION:2.0
PRODID:-//YourOrganization//EventDownload//DE
CALSCALE:GREGORIAN
METHOD:PUBLISH
BEGIN:VEVENT
UID:69e5c0d513b7a@leapup.bitshifters.cloud
DTSTAMP:20260420T075949Z
DTSTART:20200901T090000Z
DTEND:20201004T123000Z
SUMMARY:Kongress für Nephrologie - DGfN
DESCRIPTION:12. Jahrestagung der Deutschen Gesellschaft f&uuml\;r Nephrologie\nWeitere Informationen: https://www.nephrologie2020.de/\n&nbsp\;
LOCATION:Estrel Congress Center Berlin\, Sonnenallee 225\, 12057 Berlin
END:VEVENT
END:VCALENDAR
