BEGIN:VCALENDAR
VERSION:2.0
PRODID:-//YourOrganization//EventDownload//DE
CALSCALE:GREGORIAN
METHOD:PUBLISH
BEGIN:VEVENT
UID:69e4c8fb13da2@leapup.bitshifters.cloud
DTSTAMP:20260419T142219Z
DTSTART:20240903T090000Z
DTEND:20240903T093000Z
SUMMARY:Kostenloses Web-Seminar zu µKPI: Tool-Suite für Leistungsindikatoren mikrobiologischer Methoden (KPIs)
DESCRIPTION:In diesem Webinar stellen wir &micro\;KPI f&uuml\;r die Verifizierung von mikrobiologischen Methoden gem&auml\;&szlig\; ISO 16140 Teil 3 vor.Das Web-Seminar beginnt um 9 Uhr und dauert etwa 30 Minuten.\n&micro\;KPI ist eine browserbasierte Softwarel&ouml\;sung und umfasst eine Reihe von Werkzeugen zur Bestimmung von Leistungsindikatoren f&uuml\;r mikrobiologische Methoden.Es steht eine Vielzahl von Protokollen f&uuml\;r die interne Validierung und Verifizierung mikrobiologischer Methoden zur Verf&uuml\;gung.Mit dem Study Designer werden Sie Schritt f&uuml\;r Schritt zu einem geeigneten Studiendesign gef&uuml\;hrt.\nAu&szlig\;erdem gibt es Hilfestellungen f&uuml\;r die Einrichtung des Studiendesigns und Ihre Laborwerte k&ouml\;nnen problemlos importiert und in einer Datenbank gespeichert werden.Die Versuchsdaten werden statistisch ausgewertet\, und die Akzeptanzgrenzen werden &uuml\;berpr&uuml\;ft.Ein Bericht wird automatisch erstellt und kann anschlie&szlig\;end heruntergeladen werden.\nWeitere Informationen
END:VEVENT
END:VCALENDAR
