BEGIN:VCALENDAR
VERSION:2.0
PRODID:-//YourOrganization//EventDownload//DE
CALSCALE:GREGORIAN
METHOD:PUBLISH
BEGIN:VEVENT
UID:69e53aec62635@leapup.bitshifters.cloud
DTSTAMP:20260419T222828Z
DTSTART:20241015T090000Z
DTEND:20241015T093000Z
SUMMARY:Kostenloses Webinar µKPI: Tool-Suite für Leistungsindikatoren für mikrobiologische Methoden
DESCRIPTION:&micro\;KPI: Suite of tools for microbiological method key performance indicatorsKostenloses Webinar &micro\;KPI - 15. Oktober 2024In diesem Webinar stellen wir &micro\;KPI für die Verifizierung von mikrobiologischen Methoden nach ISO 16140 Teil 3 vor.Das Web-Seminar beginnt um 9 Uhr CST (Central Standard Time) und dauert etwa 30 Minuten.\n&nbsp\;\n&micro\;KPI ist eine browserbasierte Softwarelösung und beinhaltet eine Reihe von Werkzeugen zur Bestimmung mikrobiologischer Methoden-Key-Performance-Indikatoren.Eine Vielzahl von Protokollen zur Inhouse-Validierung und Verifizierung mikrobiologischer Methoden steht zur Verfügung.Mit Hilfe des Study Designers werden Sie zu einem geeigneten Studiendesign geführt.\n&nbsp\;\nEs gibt weitere Anleitungen zum Aufbau des Versuchsplans\, und die Daten können einfach importiert und in einer Datenbank gespeichert werden.Die Versuchsdaten werden statistisch ausgewertet\, und die Akzeptanzgrenzen werden überprüft.Ein Bericht wird automatisch erstellt und kann heruntergeladen werden.\nWeiter
END:VEVENT
END:VCALENDAR
