BEGIN:VCALENDAR
VERSION:2.0
PRODID:-//YourOrganization//EventDownload//DE
CALSCALE:GREGORIAN
METHOD:PUBLISH
BEGIN:VEVENT
UID:69e52a4ac0937@leapup.bitshifters.cloud
DTSTAMP:20260419T211730Z
DTSTART:20240905T170000Z
DTEND:20240905T210000Z
SUMMARY:Kostenreduzierung und Beschaffungsoptimierung mit High-Quality-Lieferanten aus Best-Cost-Regionen
DESCRIPTION:Die Referenten m&ouml\;chten Ihnen anhand von aktuellen Beispielen je nach Warengruppen Kostensenkungspotenziale bis zu 30% unterhalb vergleichbarer Beschaffung aus mitteleurop&auml\;ischen Marktumfeld aufzeigen\, vor allem f&uuml\;r:\n\nGussteile (Aluminiumguss\, Aluminiumdruckguss\, GJS-Sph&auml\;roguss\, Wachsausschmelzguss\, Feinguss) inkl. Gusswerkzeugherstellung\nBlech-\, Biege-\, Laser- und Schwei&szlig\;bauteile sowie Baugruppen\nSchmiede- und Stanzteile aus Stahl und NE-Metallen inkl. Werkzeugherstellung\nFertigung und Lieferung von Schmiede- bzw. Stanzwerkzeugen\nSinterteile aus keramischen oder metallischen Werkstoffen\nMetallpulverspritzguss / Metal Injection Moulding (MIM)\nDreh- und Fr&auml\;steile\nKeramik- und Kunststoffspritzgusskomponenten\n\nJetzt kostenfrei anmelden!
LOCATION:HEUKING Chemnitz\, Weststraße 16\, 09112 Chemnitz
END:VEVENT
END:VCALENDAR
