BEGIN:VCALENDAR
VERSION:2.0
PRODID:-//YourOrganization//EventDownload//DE
CALSCALE:GREGORIAN
METHOD:PUBLISH
BEGIN:VEVENT
UID:69e579bd437f5@leapup.bitshifters.cloud
DTSTAMP:20260420T025629Z
DTSTART:20220706T090000Z
DTEND:20220707T150000Z
SUMMARY:Kunststoff trifft Medizintechnik
DESCRIPTION:Die Kunststoff- und Medizintechnik bewegen sich aktuell in einem dynamischen Marktumfeld: Globale Megatrends wie Nachhaltigkeit\, Digitalisierung sowie der demographische Wandel haben einen erheblichen Einfluss auf die Entscheidung in Unternehmen. Wie gehen beide Branchen mit den aktuellen Herausforderungen und den tiefgreifenden Ver&auml\;nderungen um? Was kann daraus f&uuml\;r das eigne Unternehmen abgeleitet werden?\nBei der anwendungsorientierten Tagung steht die Medizintechnik im Fokus. Thematisch spannt das Programm den Bogen vom Kunststoff speziell f&uuml\;r medizinische Anwendungen &uuml\;ber die Verarbeitungstechnik zu hochwertigen medizinisch-technischen L&ouml\;sungen bis hin zur Messtechnik und Qualit&auml\;tssicherung. Herausforderungen und Potenziale f&uuml\;r die Kunststoffverarbeiter im Bereich Medizintechnik werden diskutiert und neue M&ouml\;glichkeiten der Kunststofftechnik f&uuml\;r die Medizinbranche dargestellt.&nbsp\;\nFachvortr&auml\;ge\, Fachausstellung\, Workshops &amp\; Abendveranstaltung - all dies erwartet Sie w&auml\;hrend der Veranstaltung.&nbsp\;Kommen Sie vorbei und machen Sie mit. Wir freuen uns auf Ihren Besuch!\nZum Programm\nHier k&ouml\;nnen Sie sich f&uuml\;r die Tagung anmelden!
LOCATION:VDI-GaraGe gGmbH\, Karl-Heine-Straße 97\, 04229 Leipzig
END:VEVENT
END:VCALENDAR
