BEGIN:VCALENDAR
VERSION:2.0
PRODID:-//YourOrganization//EventDownload//DE
CALSCALE:GREGORIAN
METHOD:PUBLISH
BEGIN:VEVENT
UID:69e4c86aac62b@leapup.bitshifters.cloud
DTSTAMP:20260419T141954Z
DTSTART:20250129T090000Z
DTEND:20250130T150000Z
SUMMARY:Kunststoff trifft Medizintechnik
DESCRIPTION:Die Kunststoff- und Medizintechnik bewegen sich aktuell in einem dynamischen Marktumfeld: Globale Megatrends wie die Nachhaltigkeit\, die Digitalisierung sowie der demografische Wandel haben einen erheblichen Einfluss auf die Entscheidungen im Unternehmen. Wie gehen beide Branchen mit den aktuellen Herausforderungen und den tiefgreifenden Ver&auml\;nderungen um? Was kann daraus f&uuml\;r das eigene Unternehmen abgeleitet werden?\nIn dieser Veranstaltungsreihe er&ouml\;rtern erfahrene Expertinnen und Experten die Themen Werkstoffe\, Design\, Funktion &amp\; Forschung\, Verfahren\, Messtechnik und Qualit&auml\;t. Besonderes Augenmerk ist hierbei der praxiserprobte und innovative Ansatz\, den Unternehmen und Forschungseinrichtungen erfolgreich anwenden. Au&szlig\;erdem haben die Teilnehmenden ausreichend M&ouml\;glichkeit an den jeweiligen Ausstellerst&auml\;nden und w&auml\;hrend der Abendveranstaltung ins Gespr&auml\;ch zu kommen und zu networken.
LOCATION:DaCapo Oldtimermuseum & Eventhalle\, Karl-Heine-Straße 105\, 04229 Leipzig
END:VEVENT
END:VCALENDAR
