BEGIN:VCALENDAR
VERSION:2.0
PRODID:-//YourOrganization//EventDownload//DE
CALSCALE:GREGORIAN
METHOD:PUBLISH
BEGIN:VEVENT
UID:69e549bcf3958@leapup.bitshifters.cloud
DTSTAMP:20260419T233140Z
DTSTART:20230509T103000Z
DTEND:20230511T160000Z
SUMMARY:Labvolution
DESCRIPTION:Wie das Laborleben in Zukunft aussehen k&ouml\;nnte\, das soll auf der Messe Labvolution vom 9. bis 11. Mai 2023 in Hannover gezeigt werden. Teil der Labortechnikmesse ist erneut ein praxisnaher Workshop der Gl&auml\;sernen Labor Akademie (GLA) aus Berlin. Der "Labor-4.0"-Workshop f&uuml\;r Technische Angestellte und Laboranten in den Life Sciences am Dienstag\, den 9. Mai 2023 f&uuml\;r Messebesucher kostenlos.\nJetzt teilnehmen!
LOCATION:Deutsche Messe AG\, Messegelände\, 30521 Hannover
END:VEVENT
END:VCALENDAR
