BEGIN:VCALENDAR
VERSION:2.0
PRODID:-//YourOrganization//EventDownload//DE
CALSCALE:GREGORIAN
METHOD:PUBLISH
BEGIN:VEVENT
UID:69e4c8a89f02f@leapup.bitshifters.cloud
DTSTAMP:20260419T142056Z
DTSTART:20250620T180000Z
DTEND:20250620T232800Z
SUMMARY:Lange Nacht der Wissenschaften
DESCRIPTION:Wissenschaft hautnah erleben &ndash\; bei der Langen Nacht der Wissenschaften in Leipzig!\nAm Freitag\, 20. Juni 2025\, &ouml\;ffnet Leipzig von 18 bis 23 Uhr seine Labore\, H&ouml\;rs&auml\;le und Institute f&uuml\;r alle Wissenshungrigen. \nOb spannende Vortr&auml\;ge\, spektakul&auml\;re Mitmach-Experimente\, Einblicke in aktuelle KI-Forschung oder Ganganalysen im Bewegungsanalyselabor &ndash\; f&uuml\;r Gro&szlig\; und Klein ist etwas dabei. Auch Themen wie Biodiversit&auml\;t\, medizinische Innovationen oder Jugendsprache stehen auf dem Programm. Ein besonderes Highlight: die Kuscheltier-Sprechstunde f&uuml\;r kleine Wissenschaftsfans.\nF&uuml\;r den passenden Sound sorgt die Uni-Bigband mit Live-Auftritten an mehreren Standorten.Der Eintritt ist kostenlos.\nAlle Details zum Programm gibt&rsquo\;s hier.\nNeugierig? Dann nichts wie los &ndash\; Leipzig freut sich auf eine Nacht voller Entdeckungen!
LOCATION:BIO CITY Leipzig\, Deutscher Platz 5\, 04103 Leipzig
END:VEVENT
END:VCALENDAR
