BEGIN:VCALENDAR
VERSION:2.0
PRODID:-//YourOrganization//EventDownload//DE
CALSCALE:GREGORIAN
METHOD:PUBLISH
BEGIN:VEVENT
UID:69e5d7a4b9de7@leapup.bitshifters.cloud
DTSTAMP:20260420T093708Z
DTSTART:20200904T083000Z
DTEND:20200904T170000Z
SUMMARY:Leipziger interaktives Nephrologie-Seminar
DESCRIPTION:Programm &amp\; Anmeldung\nReferent*innen\n\nProf. Dr. Joachim Beige\, KfH Nierenzentrum und Abteilung Nephrologie im Interdisziplin&auml\;ren Zentrum f&uuml\;r Nierenheilkunde\, Klinikum St. Georg gGmbH\, Martin-Luther-Universit&auml\;t Halle/Wittenberg\n\n\nPD Dr. med. Juliane Bolbrinker\, Charit&eacute\; &ndash\; Universit&auml\;tsmedizin Berlin\, Klinische Pharmakologie\nProf. Dr. med. Matthias Girndt\, Universit&auml\;tsklinikum Halle (Saale)\, Universit&auml\;tsklinik und Poliklinik f&uuml\;r Innere Medizin II\nProf. Dr. H.-J. Gr&ouml\;ne\, Universit&auml\;tsklinikum Marburg\, Pharmakologisches Institut\nCharlotte Hechler\, KfH Nierenzentrum und Abteilung Nephrologie im Interdisziplin&auml\;ren Zentrum f&uuml\;r Nierenheilkunde Klinikum St. Georg gGmbH\nDr. med. Gert Hennig\, Klinikum St. Georg gGmbH\, Klinik f&uuml\;r Gef&auml\;&szlig\;chirurgie\nProf. Dr. med. Markus Hollenbeck\, Knappschaftskrankenhaus Bottrop\, Klinik f&uuml\;r Innere Medizin II\, Nephrologie\, Rheumatologie und Intensivmedizin\nProf. Dr. med. Jan T. Kielstein\, St&auml\;dtisches Klinikum Braunschweig gGmbH\, Braunschweig\nWolfgang K&ouml\;hler\, Universit&auml\;tsklinikum Leipzig\, Klinik f&uuml\;r Neurologie\nDr. med. Diana Schmerler\, KfH Nierenzentrum und Abteilung Nephrologie im Interdisziplin&auml\;ren Zentrum f&uuml\;r Nierenheilkunde Klinikum St. Georg gGmbH\nDipl.-Soz. Anja Stoye\, Martin-Luther-Universit&auml\;t Halle-Wittenberg\, Institut f&uuml\;r Rehabilitationsmedizin\nProf. Dr. med. Dominik Uehlinger\, Universit&auml\;tsspital Bern\, Inselspital\, Universit&auml\;tsklinik f&uuml\;r Nephrologie und Hypertonie\nProf. Dr. med. Christoph Wanner\, Universit&auml\;tsklinikum W&uuml\;rzburg\, Medizinische Klinik I\, Nephrologie\nDr. Ralph Wendt\, KfH Nierenzentrum und Abteilung Nephrologie im Interdisziplin&auml\;ren Zentrum f&uuml\;r Nierenheilkunde Klinikum St. Georg gGmbH\n\n​\nANMELDUNG &amp\; KONTAKT\nAnmeldeformular &amp\; Programmflyer
END:VEVENT
END:VCALENDAR
