BEGIN:VCALENDAR
VERSION:2.0
PRODID:-//YourOrganization//EventDownload//DE
CALSCALE:GREGORIAN
METHOD:PUBLISH
BEGIN:VEVENT
UID:69e6ead6b9cee@leapup.bitshifters.cloud
DTSTAMP:20260421T051118Z
DTSTART:20131024T000000Z
DTEND:20131024T000000Z
SUMMARY:LIFE SCIENCE DAY 2013
DESCRIPTION:Der LIFE SCIENCE DAY 2013 in Berlin-Dahlem&nbsp\; findet in diesem Jahr im Rahmen der Berlin Health Week statt. Als wissenschaftlicher H&ouml\;hepunkt f&uuml\;r Berlin und Deutschland werden auf dieser Veranstaltung im Jubil&auml\;umsjahr der Genomforschung einerseits die grundlegenden Entdeckungen der letzten Jahrzehnte in der Molekularbiologie f&uuml\;r die heutige Biomedizin gew&uuml\;rdigt und andererseits repr&auml\;sentieren international renommierte Referenten aus interdisziplin&auml\;rer Sicht den aktuellen Stand der heutigen Genomforschung.
END:VEVENT
END:VCALENDAR
