BEGIN:VCALENDAR
VERSION:2.0
PRODID:-//YourOrganization//EventDownload//DE
CALSCALE:GREGORIAN
METHOD:PUBLISH
BEGIN:VEVENT
UID:69e512ef9a2cc@leapup.bitshifters.cloud
DTSTAMP:20260419T193751Z
DTSTART:20250428T000000Z
DTEND:20250430T130000Z
SUMMARY:Life Science Investment | LSX Weltkongress
DESCRIPTION:Der LSX World Congress 2025 wird vom 28. bis 30. April 2025 im Business Design Centre in London\, UK\, stattfinden. Er ist eine führende Veranstaltung für Partnerschaften\, Strategien und Investitionen im Bereich der Biowissenschaften.\nHighlights:\n\nPartnerschaften: 1:1-Treffen zwischen Führungskräften aus den Bereichen Biopharma\, Medizintechnik\, Gesundheitstechnologie und Investoren.\nSpezialistisches Programm: Über 250 Expertenvorträge und Best-Practice-Sitzungen.\nDay Zero - Forum Day: Spezielle Foren für CEOs\, um strategische Verbindungen zu fördern.\n\nDie Konferenz bietet Delegierten-\, Investoren- und Präsentationspässe.\nWeitere Informationen hier!
LOCATION:Business Design Centre Ltd\, 52 Upper St\, N1 0Q London
END:VEVENT
END:VCALENDAR
