BEGIN:VCALENDAR
VERSION:2.0
PRODID:-//YourOrganization//EventDownload//DE
CALSCALE:GREGORIAN
METHOD:PUBLISH
BEGIN:VEVENT
UID:69e6b75760f69@leapup.bitshifters.cloud
DTSTAMP:20260421T013135Z
DTSTART:20141009T000000Z
DTEND:20141009T000000Z
SUMMARY:Life Sciences Investment Forum
DESCRIPTION:Junge\, innovative Unternehmen aus dem Gesundheitssektor bekommen die M&ouml\;glichkeit ihre Ideen einer internationalen Jury aus Investoren und Industrie zu pr&auml\;sentieren.\nSeine Sie eines dieser Unternehmen und bewerben Sie sich bis zum 29.8.2014
END:VEVENT
END:VCALENDAR
