BEGIN:VCALENDAR
VERSION:2.0
PRODID:-//YourOrganization//EventDownload//DE
CALSCALE:GREGORIAN
METHOD:PUBLISH
BEGIN:VEVENT
UID:69e557f144d27@leapup.bitshifters.cloud
DTSTAMP:20260420T003217Z
DTSTART:20230418T090000Z
DTEND:20230420T160000Z
SUMMARY:Lounges 2023
DESCRIPTION:Vom 18. bis 20. April 2023 werden sich auf der Lounges in Karlsruhe mehr als 200 Aussteller pr&auml\;sentieren. Die Fachmesse fokussiert Rein(st)r&auml\;ume und Prozesse insbesondere der Pharmaindustrie.\nProdukte\, Systeml&ouml\;sungen und Dienstleistungen rundum den Reinraum und Prozesse in kontrollierten\, hygienischen Umgebungen werden auf der Messe pr&auml\;sentiert\, darunter L&ouml\;sungen f&uuml\;r die Geb&auml\;udetechnik\, Reinraumeinrichtung wie Mobiliar und Schleusen bis hin zu messtechnischen L&ouml\;sungen\, Verbrauchsmaterialien und Reinraumbekleidung sowie und Dienstleistungen\, die von Raumreinigung bis Qualifizierung reichen.\nJetzt teilnehmen!
LOCATION:Messe Karlsruhe\, Messeallee 1\, 76287 Rheinstetten
END:VEVENT
END:VCALENDAR
