BEGIN:VCALENDAR
VERSION:2.0
PRODID:-//YourOrganization//EventDownload//DE
CALSCALE:GREGORIAN
METHOD:PUBLISH
BEGIN:VEVENT
UID:69e526d0f0c65@leapup.bitshifters.cloud
DTSTAMP:20260419T210240Z
DTSTART:20240529T100000Z
DTEND:20240530T200000Z
SUMMARY:MACHN24 Festival for Tech\, Business and Art
DESCRIPTION:\n&lsquo\;Machen&rsquo\;\, German for &lsquo\;make&rsquo\; or &lsquo\;do&rsquo\; &ndash\; that&rsquo\;s what literally everyone at this unique festival for tech\, business and art is doing.\n\n\nOn May 29th and 30th 2024\, the Leipziger Baumwollspinnerei (a historic cotton mill turned art space) welcomes artists\, tech bros/gals\, entrepreneurs and the &lsquo\;innovation curious&rsquo\;. The main program offers a head-spinning choice of talks\, covering fields like AI\, chaos theory\, humanoid robots and smart cities &ndash\; to name just a few. Satellite events geared towards professionals include the HHL SpinLab Investors Day (with RootCamp)\, the Agile and Transformation BarCamps\, as well as a speed dating event connecting creatives with entrepreneurs. Last but not least\, an outstanding creative will receive the new Creative Indie Award in Leipzig.\nMore information here!\n
LOCATION:Leipziger Baumwollspinnerei\, Spinnereistraße 7\, 04179 Leipzig
END:VEVENT
END:VCALENDAR
