BEGIN:VCALENDAR
VERSION:2.0
PRODID:-//YourOrganization//EventDownload//DE
CALSCALE:GREGORIAN
METHOD:PUBLISH
BEGIN:VEVENT
UID:69e590780f7ef@leapup.bitshifters.cloud
DTSTAMP:20260420T043328Z
DTSTART:20211101T090000Z
DTEND:20211101T110000Z
SUMMARY:Matchmaking: Bioökonomie – Vision oder Alltag?
DESCRIPTION:Unsere Veranstaltungsreihe "Matchmaking" geht in die n&auml\;chste Runde. Das gemeinsame Format von HTW\, Saxony5 und IHK Dresden bringt innovative Unternehmer und Wissenschaftler miteinander ins Gespr&auml\;ch.\nAktuell geht es um das Thema Bio&ouml\;konomie und damit um alternative biobasierte Materialien und Produkte. In insgesamt sechs Pitches stellen ausgew&auml\;hlte Unternehmer und Forscher Ideen und Innovationen vor\, die vielleicht auch Ihr Gesch&auml\;ft voran bringen k&ouml\;nnen. Im anschlie&szlig\;enden virtuellen Kaffeeplausch k&ouml\;nnen Sie sich direkt mit den Referenten vernetzen.\nProgramm\n\nBegr&uuml\;&szlig\;ung durch das Prorektorat Forschung &amp\; Entwicklung der HTW Dresden\nDas Matchmaking im Kontext der IHK-Innovationsberatung\, Alexander Reichel (IHK Dresden)\nBiokompatible Materialien aus Kollagen\, Prof. Kathrin Harre (HTW Dresden)\nNaturseide - ein Ersatz f&uuml\;r Kunststoffe in der Medizintechnik?\, Dr. Udo Krause (Seidenkokon Krause &amp\; Collegen GmbH)\nHerstellung von Alltags- und Einwegprodukten aus naturfaserbasierten Rohstoffen\, Prof. Jens Weber (Hochschule Zittau-G&ouml\;rlitz)\nWeichschaumstoffe aus Lederresten statt Polyurethan?\, Bernd Wacker (eco-softfibre GmbH &amp\; Co. KG)\nAquatische Rohstoffe: Quelle f&uuml\;r die Bio&ouml\;konomie\, Dr. Felix Krujatz (AquaTech Lausitz / biotopa gGmbH)\nKatastrophenschutz aus Wellpappe\, Sven Grasselt-Gille (AidBoards - paper response)\nErfahrungsaustausch und virtueller Kaffeeplausch in Wonder.ME\n\nDie Veranstaltung ist kostenfrei.\nAnmeldung und weitere Informationen finden Sie hier.&nbsp\;\nWir freuen uns auf Ihre Teilnahme.&nbsp\;
END:VEVENT
END:VCALENDAR
