BEGIN:VCALENDAR
VERSION:2.0
PRODID:-//YourOrganization//EventDownload//DE
CALSCALE:GREGORIAN
METHOD:PUBLISH
BEGIN:VEVENT
UID:69e535bf16ef1@leapup.bitshifters.cloud
DTSTAMP:20260419T220623Z
DTSTART:20240710T120000Z
DTEND:20240710T130000Z
SUMMARY:MD Comp: Wie die sichere und konforme Integration von Medizinprodukten und Nicht-Medizinprodukten gelingt
DESCRIPTION:Die Digitalisierung und die Integration im Medizintechnikbereich schreiten voran. Damit einher geht die Vernetzung von Medizinger&auml\;ten aller Art mit unterschiedlichsten Nicht-Medizinger&auml\;ten. Typische Beispiele daf&uuml\;r sind das Patientenmonitoring oder der digitalisierte Operationssaal.&nbsp\;\nEine erhebliche Herausforderung f&uuml\;r Hersteller und Betreiber besteht darin\, Medizinprodukte mit Nicht-Medizinprodukten in Systeme mit medizinischem Zweck zu integrieren und dabei die Sicherheit und Leistungsf&auml\;higkeit nachweislich zu garantieren. Der VDE hat mit &bdquo\;MD Comp&ldquo\; ein neues Konzept entwickelt\, das diese Problematik adressiert. MD Comp bietet eine strukturierte Herangehensweise\, um die technischen Eigenschaften von Nicht-Medizinprodukten so zu qualifizieren\, dass diese konform in medizinische Systeme integriert werden k&ouml\;nnen.&nbsp\;\nIn dieser kostenlosen Online-Veranstaltung stellen die Autoren die neue Empfehlung vor. Seien Sie dabei und erfahren Sie aus erster Hand\, welche innovativen Konzepte MD Comp bereith&auml\;lt.&nbsp\;\nLaden Sie die Ver&ouml\;ffentlichung hier kostenlos herunter: www.vde.com/md-comp
LOCATION:MS Teams\, Offenbach
END:VEVENT
END:VCALENDAR
