BEGIN:VCALENDAR
VERSION:2.0
PRODID:-//YourOrganization//EventDownload//DE
CALSCALE:GREGORIAN
METHOD:PUBLISH
BEGIN:VEVENT
UID:69e89eba41e27@leapup.bitshifters.cloud
DTSTAMP:20260422T121106Z
DTSTART:20190918T000000Z
DTEND:20190919T000000Z
SUMMARY:MEDCARE
DESCRIPTION:In kürzester Zeit hat sich die MEDCARE als erfolgreiche und zukunftsweisende Veranstaltung für die sektorenübergreifende Fortbildung bewiesen. 1.250 Teilnehmer kamen im Herbst 2017 zur zweiten Auflage der Kongressmesse für klinische und außerklinische Patientenversorgung. In der begleitenden Fachausstellung präsentierten 62 Unternehmen innovative Produkte und Dienstleistungen für die optimale Patientenversorgung.\n\nThemenschwerpunkte:\n\n\nPalliavtivmedizin / Schmerzmanagement\nStomaversorgung / Inkontinenzversorgung\nErnährungstherapie\nWundversorgung\nHygiene\n6. Mitteldeutsche Intensivpflegetage\n
LOCATION:Leipziger Messe GmbH \, Messe-Allee 1\, 04356 Leipzig
END:VEVENT
END:VCALENDAR
