BEGIN:VCALENDAR
VERSION:2.0
PRODID:-//YourOrganization//EventDownload//DE
CALSCALE:GREGORIAN
METHOD:PUBLISH
BEGIN:VEVENT
UID:69e6693dbd073@leapup.bitshifters.cloud
DTSTAMP:20260420T195821Z
DTSTART:20161114T090000Z
DTEND:20161117T180000Z
SUMMARY:MEDICA 2016 - Weltforum der Medizin
DESCRIPTION:14. - 17. November 2016 in Düsseldorf - Be part of the No.1!\n\nDie MEDICA ist die größte Veranstaltung für die Medizinbranche weltweit. Schon seit über 40 Jahren ist sie eine feste Größe im Kalender aller Experten. Fester Bestandteil neben der Fachmesse sind die "MEDICA Konferenzen und Foren". Hierzu zählen die MEDICA EDUCATION CONFERENCE (das größte interdisziplinäres Fortbildungsforum Deutschlands)\, der Deutsche Krankenhaustag (die führende Kommunikationsplattform für Entscheider in deutschen Kliniken)\, die alle 2 Jahre stattfindende EUROPEAN HOSPITAL CONFERENCE (EHC)\, die MEDICA MEDICINE + SPORTS CONFERENCE\, die neue MEDICA PHYSIO CONFERENCE und die International Conference on Disaster and Military Medicine (DiMiMED). Dazu bietet die MEDICA fünf kostenlose Foren\, verteilt in den Messehallen\, sowie interessante Sonderschauen und Aktionen.\nDie MEDICA ist klar strukturiert\, denn die Hallenbelegung orientiert sich an den Themenschwerpunkten der Messe:\n\nElektromedizin\, Medizintechnik\nInformations- und Kommunikationstechnik\nPhysiotherapie/ Orthopädietechnik\nBedarfs- und Verbrauchsartikel\nLabortechnik/ Diagnostika\n\n
LOCATION:Messe Düsseldorf GmbH\, Stockumer Kirchstraße 61\, 40474 Düsseldorf 
END:VEVENT
END:VCALENDAR
