BEGIN:VCALENDAR
VERSION:2.0
PRODID:-//YourOrganization//EventDownload//DE
CALSCALE:GREGORIAN
METHOD:PUBLISH
BEGIN:VEVENT
UID:69e4e29436c21@leapup.bitshifters.cloud
DTSTAMP:20260419T161132Z
DTSTART:20241111T000000Z
DTEND:20241114T000000Z
SUMMARY:MEDICA - Fachmesse für Medizintechnik & Gesundheitswesen
DESCRIPTION:Die&nbsp\;MEDICA&nbsp\;in D&uuml\;sseldorf ist mit &uuml\;ber 5.300 Ausstellern aus fast 70 Nationen und 83.000 Besuchern eine der gr&ouml\;&szlig\;ten medizinischen B2B-Fachmessen weltweit. Hier werden eine Vielzahl von innovativen Produkten und Dienstleistungen aus den Bereichen&nbsp\;Medizinische Bildgebung\,&nbsp\;Labortechnik\,&nbsp\;Diagnostika\,&nbsp\;Health-IT\,&nbsp\;mobile Health&nbsp\;sowie&nbsp\;Physiotherapie-/ Orthop&auml\;dietechnik&nbsp\;und&nbsp\;medizinische Verbrauchsmaterialien&nbsp\;pr&auml\;sentiert. Das umfangreiche&nbsp\;Programm&nbsp\;der erstklassigen&nbsp\;Foren\,&nbsp\;Konferenzen&nbsp\;und&nbsp\;Sonderschauen&nbsp\;bietet Gelegenheiten f&uuml\;r interessante Pr&auml\;sentationen und Diskussionen mit Experten und Politikern und umfasst auch Pitches von neuen Produkten und Preisverleihungen.\nWeitere Informationen
LOCATION:Messegelände\, Am Staad (Stockumer Höfe)\, 40474 Düsseldorf
END:VEVENT
END:VCALENDAR
