BEGIN:VCALENDAR
VERSION:2.0
PRODID:-//YourOrganization//EventDownload//DE
CALSCALE:GREGORIAN
METHOD:PUBLISH
BEGIN:VEVENT
UID:69e69fe65261b@leapup.bitshifters.cloud
DTSTAMP:20260420T235134Z
DTSTART:20150626T090000Z
DTEND:20150626T170000Z
SUMMARY:Medien- und Internetrecht | MIKOMI Seminarreihe Recht
DESCRIPTION:Beschreibung\nDurch die rasante Entwicklung der Internet-Technologie erschlie&szlig\;en sich immer mehr Unternehmen unternehmerisch neue\, hochinteressante Perspektiven. Kompakt und zielgerichtet vermitteln wir Ihnen das Basiswissen f&uuml\;r die wichtigsten Dienste im Medien- und Internetrecht und die damit verbundenen rechtlichen Problemstellungen. Bestimmen Sie selbst das Bild\, das die Medien von Ihrem Unternehmen zeichnen\, indem Sie von einem renommierten Anwalt die Fallstricke externer Unternehmenskommunikation kennen &ndash\; und meiden lernen.&nbsp\;\nIm Seminar Medien- und Internetrecht sollen Sie ein Problembewusstsein entwickeln\, das es Ihnen in der beruflichen Praxis erm&ouml\;glicht\, rechtliche Probleme zu erkennen\, gegeben falls selbst zu bew&auml\;ltigen oder den Bedarf an professioneller Unterst&uuml\;tzung zu erkennen. Auf Basis allgemeiner Rechtsgrundlagen betrachten Sie die Problemstellungen bei der Informationsbeschaffung und &ndash\;bearbeitung und stellen eine Synthese zu rechtswidriger Berichterstattung und deren Folgen her. Sie werden bef&auml\;higt\, jugendschutzrechtliche Aspekte in der Medienarbeit zu beachten sowie Urheberrechtsproblemstellungen und verwandte gewerbliche Schutzrechte zu lokalisieren\, um diese im Arbeitsalltag eines Medienschaffenden vor Augen zu haben.\nZielgruppe: F&uuml\;hrungskr&auml\;fte und Mitarbeiter im Bereich Marketing\nKosten: 245 EUR zzgl. 20 EUR Verpflegungspauschale pro Seminartag
END:VEVENT
END:VCALENDAR
