BEGIN:VCALENDAR
VERSION:2.0
PRODID:-//YourOrganization//EventDownload//DE
CALSCALE:GREGORIAN
METHOD:PUBLISH
BEGIN:VEVENT
UID:69e55499ee69a@leapup.bitshifters.cloud
DTSTAMP:20260420T001801Z
DTSTART:20230420T090000Z
DTEND:20230420T130000Z
SUMMARY:Medizintechnik-Fachtag in Jena
DESCRIPTION:oxaion und medways e.V. laden zu einem Fachtag &bdquo\;Digitalisierung und Regularien in der Medizintechnik&ldquo\; nach Jena ein.Sie k&ouml\;nnen zu wichtigen Themen einen Einblick bekommen und mitdiskutieren:\nWie geht man bei der Einf&uuml\;hrung von UDI vor und was muss man dabei beachten?Wie sollten KMU und Start-Up bei der Auswahl von Softwarel&ouml\;sungen vorgehen?Und: Computer-System-Validierung von bestehenden neu einzuf&uuml\;hrenden Software-L&ouml\;sungen im Unternehmen.\nDie Teilnahme an der Veranstaltung ist kostenlos.\nHier anmelden!
LOCATION:medways e.V. Geschäftsstelle\, Keßlerstraße 21b\, 07745 Jena
END:VEVENT
END:VCALENDAR
