BEGIN:VCALENDAR
VERSION:2.0
PRODID:-//YourOrganization//EventDownload//DE
CALSCALE:GREGORIAN
METHOD:PUBLISH
BEGIN:VEVENT
UID:69e557f898714@leapup.bitshifters.cloud
DTSTAMP:20260420T003224Z
DTSTART:20230427T090000Z
DTEND:20230427T160000Z
SUMMARY:Medizintechnik-Fachtag in Stuttgart
DESCRIPTION:Wir bringen den Ball wieder ins Rollen mit unserem kostenlosen ERP Fachtag Medizintechnik in der Mercedes Benz Arena in Stuttgart.\nAuf dem Platz stehen f&uuml\;r Sie unsere Branchenkenner\, Kunden und unser Team mit einem spannenden Medizintechnik Programm und einer anschlie&szlig\;enden F&uuml\;hrung durch das Stadion.\nJetzt anmelden!
LOCATION:Mercedes Benz Arena Stuttgart\, Mercedesstraße 87\, 70372 Stuttgart
END:VEVENT
END:VCALENDAR
