BEGIN:VCALENDAR
VERSION:2.0
PRODID:-//YourOrganization//EventDownload//DE
CALSCALE:GREGORIAN
METHOD:PUBLISH
BEGIN:VEVENT
UID:69e7b6389e516@leapup.bitshifters.cloud
DTSTAMP:20260421T193904Z
DTSTART:20161207T140000Z
DTEND:20161207T200000Z
SUMMARY:Medizintechnik in Sachsen - Ein Querschnitt durch die Branche
DESCRIPTION:Am 7.12.2016 führen die Wirtschaftsförderung Sachsen GmbH und der biosaxony e.V. eine gemeinsame Veranstaltung zum Thema „Medizintechnik in Sachsen“ beim Beckmann-Institut für Technologieentwicklung e.V. in Chemnitz durch. Wollten Sie schon immer einmal wissen\, wer in Sachsen im Bereich Medizintechnik unterwegs ist? Welche Medizintechnikprodukte aus Vogtland in der ganzen Welt im Einsatz sind? An wen muss ich mich wenden\, um neue Ideen in ein Produkt umzusetzen? Vertreter der Branche präsentieren ihre Ideen\, Kooperationspotenziale\, Produkte und Erfahrungen. Tauschen Sie sich mit Industrie und Wissenschaft aus und werden Sie Teil des Medizintechniknetzwerkes Sachsen.\nPROGRAMM\nBegrüßung:  14:00 – 14:20\n\nDr. Peter Homilius (Wirtschaftsförderung Sachsen GmbH)\nUwe Seidel (CEO XotonicsMED GmbH\, Vorstand biosaxony e.V.)\nDr. Henning Zeidler  (Vorstand Beckmann-Institut für Technologieentwicklung e. V.)\n\nVorträge aus der Industrie: 14:20 – 15:50\n\nRafael Salzberger (Sonovum AG): AkustoCerebroGrafie – ein neues Verfahren und Medizinprodukt für das Gehirnmonitoring - Made in Saxony by Sonovum\nDr. Dirk Freitag-Stechl (CUP Laboratorien Dr. Freitag GmbH): Medizinprodukte - Was ist drin?\nUwe Seidel (XotonicsMED GmbH): Verbindung zwischen Medizintechnik und IT - XotoCAM 1.1\nHeiko Hoffmann (Vi.Tech GmbH): Medizintechnik in der Klinik - im Spannungsfeld zwischen Anspruch und wirtschaftlichen Möglichkeiten\nDr. Ulf Martin (Leichtbauzentrum Dresden GmbH): Innovation durch Simulation – Rechnerische Strukturanalyse als Grundlage für die Auslegung medizintechnischer Produkte\nDr. Helen Blümel (BfMC): Innovative Gerätesysteme zur Prävention\, Therapie\, Rehabilitation und Konditionierung des menschlichen Bewegungsapparates\nKai-Uwe Kaden (IMM electronics GmbH): E²MS – Electronics Engineering and Manufacturing Services für die Medizintechnik\nSebastian Wolfram (WOLFRAM Design/Engineering): Medizinprodukte -  erfolgreicher mit Design und Usability\n\nKaffeepause 15:50 – 16:10\nVorträge aus der Wissenschaft: 16:10 – 18:00\n\nProf. Ronald Tetzlaff (Institut für Elektrotechnik der TUD): Funktionelle Thermografie in der Neurochirurgie\nDr. Sebastian Zaunseder (Institut für biomedizinische Technik der TU Dresden): Medizintechnische Lösungen für Klinik und Alltag\nDr. Mario Baum (Fraunhofer-Institut für Elektronische Nanosysteme): Medizintechnik in der Forschung – Innovationen durch Miniaturisierung\nChristian Kirchhof (Fraunhofer-Institut für Organische Elektronik\, Elektronenstrahl- und Plasmatechnik): flex+- Flexible Elektronik und Medizintechnik\nAndreas Lehmann (Fraunhofer-Institut für Keramische Technologien und Systeme): Das Fraunhofer IKTS als innovativer Partner im Bereich Bio- und Medizintechnik\nFlorian Schmieder (Fraunhofer-Institut für Werkstoff- und Strahltechnik):  Mikrophysiologische Systeme für medizinische Forschung und tierversuchsfreie Substanztestung\nDr. Gabriele Spörl (ILK Dresden): Das Zentrum für Kryokompetenz in Life Sciences – Medizinprodukte\nDr. Henning Zeidler  (Beckmann-Institut):  Einsatz additiver Fertigungsverfahren und plasmaelektrolytischer Oberflächenbehandlung in der Medizin\n\nGet-Together bis zirka 20 Uhr\nBesichtigung des Technikums (max. 20 Teilnehmer/Gruppe)\nVeranstaltungsort: Beckmann-Institut für Technologieentwicklung e.V.Annaberger Straße 73\, WIRKBAU\, Haus E\, Eingang B\, 1.Etage\, 09111 Chemnitz\nAnfahrt: http://beckmann-institut.de/kontakt/ bzw. www.wirkbau.de\nAnreise mit ÖPNV: vom Hauptbahnhof bis Gustav-Freytag-Str. via Straßenbahn-Linie 6 oder Citybahn C11. Nach Unterquerung des Eisenbahnviaduktes befinden sich der Wirkbau und die Lothringer Str. auf der linken Seite.\nParkmöglichkeiten: Parkraum steht auf der Elsässer Str. 37 für ca. 50 PKW (ein unbebautes Grundstück\, an dessen Zufahrt sich eine ab Mittag geöffnete Schranke befindet) zur Verfügung. Die Entfernung zum Veranstaltungsort beträgt ca. 300 m.\nZudem finden Sie in den Straßen in der Umgebung ausreichend Parkplätze.\n \nDie Veranstaltung ist bereits ausgebucht. Anmeldungen sind leider nicht mehr möglich.\n \n       
LOCATION:Beckmann-Institut für Technologieentwicklung e.V.\, Annaberger Straße 73\, 09111 Chemnitz
END:VEVENT
END:VCALENDAR
