BEGIN:VCALENDAR
VERSION:2.0
PRODID:-//YourOrganization//EventDownload//DE
CALSCALE:GREGORIAN
METHOD:PUBLISH
BEGIN:VEVENT
UID:69e5a2699dfb0@leapup.bitshifters.cloud
DTSTAMP:20260420T055001Z
DTSTART:20210923T123000Z
DTEND:20210924T150000Z
SUMMARY:Medizintechnik- und Biotechnologieforum - Innovationsforum Aktive Mikrofluidische Separation (AMS)
DESCRIPTION:Auf dem Innovationsforum Aktive Mikrofluidische Separation (AMS) werden Anwender sowie Forscher aus Wissenschaft und Wirtschaft im Thema innovativer Verfahren zur Separation oder Aufreinigung von Biomolek&uuml\;len und der nachgelagerten Analytik vernetzt\, um qualitativ bessere\, schnellere und kosteng&uuml\;nstigere diagnostische und therapeutische Verfahren f&uuml\;r die Medizin von morgen zu entwickeln.\nIm Besonderen liegt der Fokus der AMS-Plattformtechnologie im Etablieren folgender Schl&uuml\;sselm&auml\;rkte:\n1. Point-of-Care Diagnostik\,2. Labor und in Forschung\,3. neue Therapieans&auml\;tze und Therapiemonitoring.\nDas erwartet Sie! - Kompetenzen kennenlernen\, kombinieren und kooperieren.\n\npers&ouml\;nliche Vorstellung Ihrer Expertise und m&ouml\;glicher Ansatzpunkte in einer Pitchsession\nspannende Matchmakings und thematische Workshops in Wohlf&uuml\;hlatmosph&auml\;re\ngemeinsame Diskussion der Ansatzpunkte im Plenum oder einzeln\ninteressante Keynotes aus der Medizintechnik\nkulinarische Abendversanstaltung im Herzen Leipzigs\n\nDas ausf&uuml\;hrliche Programm finden Sie auf ams-med.tech. Die Pl&auml\;tze sind begrenzt.\nRegistrierung bis einschlie&szlig\;lich 31.08.2021\nDie Teilnahme ist kostenfrei.
LOCATION:Seaside Park Hotel\, Richard-Wagner-Straße 7\, 04109 Leipzig
END:VEVENT
END:VCALENDAR
