BEGIN:VCALENDAR
VERSION:2.0
PRODID:-//YourOrganization//EventDownload//DE
CALSCALE:GREGORIAN
METHOD:PUBLISH
BEGIN:VEVENT
UID:69e550dfd2a6c@leapup.bitshifters.cloud
DTSTAMP:20260420T000207Z
DTSTART:20240318T000000Z
DTEND:20240320T000000Z
SUMMARY:Mikrodruck 2024
DESCRIPTION:Werden Sie Teil der Mikrodruck-Community und nehmen Sie an unserem interdisziplinären Workshop &lsquo\;Emerging Trends in Microprinting: Materials\, Methods\, and Applications&rsquo\;\, der in Bad Schandau bei Dresden stattfindet. Genießen Sie wissenschaftlichen Austausch auf hohem Niveau in der wunderschönen Umgebung der Sächsischen Schweiz.>\nUm Ihnen eine zusätzliche Möglichkeit zu geben\, Ihre Abstracts für die verbleibenden Plätze einzureichen\, haben wir uns entschlossen\, die Frist für die Einreichung von Abstracts bis zum 31. Januar 2024 zu verlängern. Reihen Sie sich ein in die Riege all der hervorragenden Beiträge\, die wir bisher in den Bereichen\n\ngedruckte\, flexible und organische Elektronik\, \nWearables\, \nMEMS und BioMEMS\, \nBioprinting und Oberflächenfunktionalisierung\,\nMikrofluidik\, \nAdditive Mikrofertigung\, \nTinten\, Techniken und Geräte\,\n&hellip\; und viele mehr.\n\nVerpassen Sie nicht Ihre Chance\, zu einer führenden Veranstaltung beizutragen\, die sich mit den neuesten Fortschritten im Bereich des Mikrodrucks beschäftigt. Wir freuen uns auf Abstracts für Poster- und mündliche Präsentationen zu einer Reihe von Themen\, darunter innovative Techniken\, Skalierung vom Labor zur Industrie und Anwendungen in verschiedenen Sektoren.Besuchen Sie dieWorkshop-Website\, um mehr zu erfahren!\nBitte verwenden Sie die mitgelieferte Vorlage für Ihre Einreichung und senden Sie diese per E-Mail an info@oes-net.de mit dem Betreff "Microprinting Abstract Submission"Key Dates:\n\nVerlängerte Einreichungsfrist für Abstracts: 31. Januar 2024\nBenachrichtigung über die Annahme: Februar 16\, 2024\n
LOCATION:Hotel Elbresidenz\, Markt 1-11 \, 01814 Bad Schandau
END:VEVENT
END:VCALENDAR
