BEGIN:VCALENDAR
VERSION:2.0
PRODID:-//YourOrganization//EventDownload//DE
CALSCALE:GREGORIAN
METHOD:PUBLISH
BEGIN:VEVENT
UID:69e4c8c25f19b@leapup.bitshifters.cloud
DTSTAMP:20260419T142122Z
DTSTART:20250206T180000Z
DTEND:20250206T210000Z
SUMMARY:Mikrophysiologische Systeme als Alternative zum Tierversuch – Wo stehen wir?
DESCRIPTION:Gemeinsam mit Fachleuten aus Industrie und Forschung werden wir &uuml\;ber den aktuellen Stand sowie die Chancen und Herausforderungen von Alternativmethoden zum Tierversuch diskutieren.\n&nbsp\;Workshop-Agenda\n\nBegr&uuml\;&szlig\;ung und Kennenlernrunde&nbsp\;\nQuiz&nbsp\;&raquo\;Kurioses und Wissenswertes rund um den Tierversuch&laquo\;\nKurzvortr&auml\;ge&nbsp\;&raquo\;Etablierte und vielversprechende Methoden zum Ersatz des Tierversuchs&laquo\;\nPodiumsdiskussion&nbsp\;&raquo\;Alternativen zum Tierversuch &ndash\; Wo stehen wir?&laquo\;\n\nWir freuen uns auf Ihre Teilnahme\, auf einen spannenden Themenabend und auf eine lebhafte Diskussion!\nWeitere Informationen
LOCATION:COSMO Wissenschaftsforum im Kulturpalast Dresden\, Schloßstraße 2\, 01067 Dresden
END:VEVENT
END:VCALENDAR
