BEGIN:VCALENDAR
VERSION:2.0
PRODID:-//YourOrganization//EventDownload//DE
CALSCALE:GREGORIAN
METHOD:PUBLISH
BEGIN:VEVENT
UID:69e6af216b85f@leapup.bitshifters.cloud
DTSTAMP:20260421T005633Z
DTSTART:20150420T170000Z
DTEND:20150420T200000Z
SUMMARY:Mitglieder Roadshow: Investoren-Interview mit High-Tech Gründerfonds und Mountain Cleantech
DESCRIPTION:Zur Mitglieder Roadshow am 20.04. bekommt der&nbsp\;HighTech Startbahn Netzwerk e. V. Besuch aus Bonn und aus der Schweiz. So wird ein Investoren-Interview mit Dr. Thomas L&ouml\;ffler\, Investment Manager beim High-Tech Gr&uuml\;nderfonds\, und Daniel Koppelkamm\, Principal bei Mountain Cleantech\, durchgef&uuml\;hrt. Im Mittelpunkt stehen unter anderem Investitionskriterien\, der Ablauf von Beteiligungsverfahren und die Zusammenarbeit mit Portfoliounternehmen in der Praxis sowie aktuelle Entwicklungen in der Wagniskapitalfinanzierung.\nDer High-Tech Gr&uuml\;nderfonds ist Deutschlands gr&ouml\;&szlig\;ter Fr&uuml\;hphaseninvestor und finanziert Technologie-Start-ups\, Mountain Cleantech ist auf mittelst&auml\;ndische Wachstumsunternehmen im deutschsprachigen und nordischen Raum fokussiert.\nIm Anschluss an das Interview gibt es eine ausf&uuml\;hrliche Q/A und nat&uuml\;rlich auch Platz f&uuml\;r Gespr&auml\;che mit den Investoren. Damit haben Sie die tolle Gelegenheit\, Ihre Fragen rund um das Thema Venture Capital sowohl mit einem Early als auch mit einem Later Stage Investor zu diskutieren.\nWir nehmen Anmeldungen per Mail entgegen und stehen f&uuml\;r R&uuml\;ckfragen gern zur Verf&uuml\;gung.\nWann? 20.04.2015\, 17.00 bis 20.00 Uhr Wo? TechnologieZentrumDresden\, Gostritzer Stra&szlig\;e 61 &ndash\; 63\, 01217 Dresden\n&nbsp\;
END:VEVENT
END:VCALENDAR
