BEGIN:VCALENDAR
VERSION:2.0
PRODID:-//YourOrganization//EventDownload//DE
CALSCALE:GREGORIAN
METHOD:PUBLISH
BEGIN:VEVENT
UID:69e62c8565552@leapup.bitshifters.cloud
DTSTAMP:20260420T153917Z
DTSTART:20181115T150000Z
DTEND:20181115T150000Z
SUMMARY:Mittelständischer Unternehmertag Deutschland
DESCRIPTION:Der "Mittelständische Unternehmertag Deutschland" wird 2018 zum MUT Deutschland\, dem Leitkongress für Unternehmer. Die neuen Initiatoren haben das Kongresskonzept einer erfolgreichen Traditionsveranstaltung aufgegriffen und weiterentwickelt.
LOCATION:Congress Center Leipzig\, Seehausener Allee 1\, 04356  Leipzig
END:VEVENT
END:VCALENDAR
