BEGIN:VCALENDAR
VERSION:2.0
PRODID:-//YourOrganization//EventDownload//DE
CALSCALE:GREGORIAN
METHOD:PUBLISH
BEGIN:VEVENT
UID:69e4c902758aa@leapup.bitshifters.cloud
DTSTAMP:20260419T142226Z
DTSTART:20240215T170000Z
DTEND:20240215T203000Z
SUMMARY:Money4Founders: Investments für Gründende in Sachsen
DESCRIPTION:Ihr habt eine tolle Gr&uuml\;ndungsidee\, wisst aber noch nicht\, wie ihr diese finanzieren k&ouml\;nnt? Eine M&ouml\;glichkeit ist ein Investment. Aber welche M&ouml\;glichkeiten gibt es da? Wie spreche ich potenzielle Investorinnen und Investoren an und wie l&auml\;uft der Prozess genau ab? Mit der Money4Founders &ndash\; Reihe m&ouml\;chten wir euch bei diesen Fragen unterst&uuml\;tzen. Ausgew&auml\;hlte ExpertInnen stehen Rede und Antwort zu Investmentm&ouml\;glichkeiten f&uuml\;r Gr&uuml\;ndende in Sachsen. Bei Money4Founders habt ihr au&szlig\;erdem die M&ouml\;glichkeit\, euch mit anderen Gr&uuml\;ndungsinteressierten auszutauschen und einen spannenden Netzwerkabend in den R&auml\;umlichkeiten der SAB zu verbringen. Es bietet sich die M&ouml\;glichkeit\, tiefer in die Investments einzutauchen. Besprecht eure Fragen gern im pers&ouml\;nlichen Austausch mit unseren ExpertInnen vor Ort!\nJetzt anmelden!
LOCATION:Sächsische Aufbaubank - Förderbank - (SAB) \, Gerberstraße 5\, 04105 Leipzig
END:VEVENT
END:VCALENDAR
