BEGIN:VCALENDAR
VERSION:2.0
PRODID:-//YourOrganization//EventDownload//DE
CALSCALE:GREGORIAN
METHOD:PUBLISH
BEGIN:VEVENT
UID:69e63bd85c39c@leapup.bitshifters.cloud
DTSTAMP:20260420T164440Z
DTSTART:20180411T090000Z
DTEND:20180412T170000Z
SUMMARY:MT-CONNECT & MedTech Summit 2018
DESCRIPTION:Hochkarätiges Veranstaltungsduo für Medizintechnik in Nürnberg\nVom 11.-12. April 2018 findet in Nürnberg der MedTech Summit gemeinsam mit der Fachmesse für Medizintechnik MT-CONNECT statt. \nTechnologisch-wissenschaftliche Themen wie Connected Health\, Individualisierte Medizintechnik und Frugale Innovationen stehen dabei genauso auf dem Kongress-Programm wie marktrelevante Inhalte – beispielsweise Hersteller-Zulieferer-Kooperation\, IP-Management und Erstattung. In Vortrags-Sessions\, für die der BVMed als Partner gewonnen werden konnte\, werden Lösungsansätze und Handlungsempfehlungen für die Herausforderungen der neuen regulatorischen Vorgaben vorgestellt.\nDas integrierte Partnering-Event bietet die Möglichkeit zu individuellen\, vorab vereinbarten Gesprächen mit allen Teilnehmern sowie den Ausstellern und Besuchern der MT-CONNECT und ermöglicht so einen effizienten Zugang zu potentiellen Geschäftspartnern.\nAusführliche Informationen zum gesamten Veranstaltungspaket finden Sie online unter: www.mt-connect.de/de/events \nSeien Sie dabei\, wenn sich im April die Akteure der Medizintechnik-Branche in Nürnberg treffen!\n\nErhalten Sie in den Vorträgen hilfreiches Wissen zu neuesten Forschungsergebnissen und praktische Unterstützungshinweise zu aktuellen Herausforderungen\nTreffen Sie beim Matchmaking-Event „Partnering“ potentielle Geschäftspartner zu zielgerichteten halbstündigen\, vorab vereinbarten Gesprächen\nErleben Sie bei der im Verbund stattfindenden Messe MT-CONNECT innovative Produkte und Dienstleistungen\nInformieren Sie sich im Messe-Forum über aktuelle Anwendungsszenarien und Markttrends\nDiskutieren Sie beim MedTech.Dialog.Bayern über politische Rahmenbedingungen in den Bereichen Digitalisierung in der Medizintechnik und Regulation\nGenießen Sie beim Staatsempfang die Atmosphäre auf der Nürnberger Kaiserburg und knüpfen Sie interessante Kontakte \n\nMelden Sie sich an unter: portal.medtech-summit.de/registration.html
LOCATION:Messezentrum\, 90471 Nürnberg
END:VEVENT
END:VCALENDAR
