BEGIN:VCALENDAR
VERSION:2.0
PRODID:-//YourOrganization//EventDownload//DE
CALSCALE:GREGORIAN
METHOD:PUBLISH
BEGIN:VEVENT
UID:69e6dfec98b4b@leapup.bitshifters.cloud
DTSTAMP:20260421T042444Z
DTSTART:20140602T000000Z
DTEND:20140604T000000Z
SUMMARY:NanoBio-Europe 2014
DESCRIPTION:Nanobiotechnology\, as one of today&rsquo\;s most fascinating and challenging fields of research\, is a multi-disciplinary and fast developing research area with revolutionary innovations in almost any field of science and engineering.The nanobio-europe conference is going to present the most recent international developments in the field of nanobiotechnology and is providing a platform for interdisciplinary communication\, new cooperations and projects to the participants from science and industry.\nThe nanobio-europe offers 3 days of- Plenary talks- Keynotes- Industrial exhibition- Company presentations- Poster sessions\nList of topics- Nano for Diagnostics\, Imaging and Sensing- NanoAnalytics- Nano Toxicology- Functionalized Materials for Bio/Medicine- Nano for Drug and Theranostics- Regenerative Medicine/Implants- EU Horizon 2020
END:VEVENT
END:VCALENDAR
