BEGIN:VCALENDAR
VERSION:2.0
PRODID:-//YourOrganization//EventDownload//DE
CALSCALE:GREGORIAN
METHOD:PUBLISH
BEGIN:VEVENT
UID:69e4c903917b3@leapup.bitshifters.cloud
DTSTAMP:20260419T142227Z
DTSTART:20240417T150000Z
DTEND:20240417T160000Z
SUMMARY:NDT4INDUSTRY: Charakterisierungstechniken für die Weiterentwicklung biologisierter Materialien
DESCRIPTION:Biologisierte Materialien integrieren biologische Komponenten oder Strukturen oder ahmen sie nach. Durch die Integration biologischer Komponenten zur Einführung neuer Funktionalitäten bergen diese Materialien ein immenses Potenzial für alle Branchen\, von der Gesundheitsfürsorge bis zur Nachhaltigkeit.\nIn unserem nächsten NDT4INDUSTRY-Online-Seminar erfahren Sie\, wie modernste Charakterisierungstechnologien wie die optische Kohärenztomographie (OCT) und nanomechanische In-situ-SEM/TEM-Bewertungen eingesetzt werden\, um die Feinheiten dieser Materialien zu entschlüsseln.\nIn unseren Labortouren lernen Sie lebende Baumaterialien kennen\, die lebende Organismen und Mineralisierungsmöglichkeiten zur Strukturverbesserung nutzen\, elektrogesponnene Membranen\, die mit Bakteriophagen ausgestattet sind\, die auf bestimmte Bakterien abzielen\, und anpassbare künstliche Knochen\, die die strukturellen Merkmale echter Spongiosa und Kortikalis nachahmen.\nDie einstündige Veranstaltung wird live und interaktiv sein. Wir würden uns freuen\, Sie bei dem Seminar begrüßen zu dürfen.\nSeminar-Webseite: www.ndt4industry.comKontakt: info@ndt4industry.comSeminartermin: 17. April 2024\, 15 Uhr MESZKosten: kostenlos\n-- NDT4INDUSTRY &ndash\; Aktuelle Entwicklungen in der modernen ZfP\nAm Fraunhofer IKTS in Dresden-Klotzsche liegt unser Schwerpunkt auf der Entwicklung fortschrittlicher Lösungen für die zerstörungsfreie Prüfung von Keramiken und vielen anderen Materialien.\nWir arbeiten ständig an neuen Lösungen. Einige davon möchten wir Ihnen in unserer neuen Online-Seminarreihe NDT4INDUSTRY vorstellen.
END:VEVENT
END:VCALENDAR
