BEGIN:VCALENDAR
VERSION:2.0
PRODID:-//YourOrganization//EventDownload//DE
CALSCALE:GREGORIAN
METHOD:PUBLISH
BEGIN:VEVENT
UID:69e53aec5eee3@leapup.bitshifters.cloud
DTSTAMP:20260419T222828Z
DTSTART:20240417T150000Z
DTEND:20240417T160000Z
SUMMARY:NDT4INDUSTRY: Charakterisierungsverfahren für die Weiterentwicklung von biologisierten Materialien
DESCRIPTION:Biologisierte Materialien integrieren oder imitieren biologische Komponenten oder Strukturen. Durch die Integration biologischer Komponenten zur Einf&uuml\;hrung neuer Funktionalit&auml\;ten bergen diese Materialien ein immenses Potenzial f&uuml\;r alle Branchen\, vom Gesundheitswesen bis zur Nachhaltigkeit.\nIn unserem n&auml\;chsten NDT4INDUSTRY-Online-Seminar erfahren Sie\, wie hochmoderne Charakterisierungstechnologien wie die optische Koh&auml\;renztomographie (OCT) und nanomechanische In-situ-SEM/TEM-Bewertungen eingesetzt werden\, um die Feinheiten dieser Materialien zu entschl&uuml\;sseln.\nIn unseren Labortouren lernen Sie lebende Baumaterialien kennen\, die lebende Organismen und Mineralisierungsf&auml\;higkeiten zur Strukturverbesserung nutzen\, elektrogesponnene Membranen\, die mit Bakteriophagen ausgestattet sind\, die auf bestimmte Bakterien abzielen\, und anpassbare k&uuml\;nstliche Knochen\, die die strukturellen Merkmale echter Spongiosa und Kortikalis nachahmen.\nSeminar-Webpage (englisch): www.ndt4industry.com Seminar-Sprache: EnglischKontakt: info@ndt4industry.comSeminar-Datum: 17. April 2024 | 15 UhrSeminarkosten: kostenfrei\n--\nOnline-SeminarreiheNDT4INDUSTRY &ndash\; Neueste Entwicklungen in der Zerst&ouml\;rungsfreie Pr&uuml\;fung\nAm Fraunhofer IKTS in Dresden-Klotzsche konzentrieren wir uns auf die Entwicklung fortschrittlicher ZfP-L&ouml\;sungen f&uuml\;r Materialien aller Art. Wir arbeiten st&auml\;ndig an neuen L&ouml\;sungen und m&ouml\;chten Ihnen einige davon in unserem NDT4INDUSTRY-Online-Seminar vorstellen. Wir wollen es live und interaktiv mit Ihnen gemeinsam gestalten und freuen uns\, Sie bei unseren Seminaren begr&uuml\;&szlig\;en zu d&uuml\;rfen.
END:VEVENT
END:VCALENDAR
