BEGIN:VCALENDAR
VERSION:2.0
PRODID:-//YourOrganization//EventDownload//DE
CALSCALE:GREGORIAN
METHOD:PUBLISH
BEGIN:VEVENT
UID:69e8c6b1645ae@leapup.bitshifters.cloud
DTSTAMP:20260422T150137Z
DTSTART:20190206T130000Z
DTEND:20190206T170000Z
SUMMARY:Neue Anforderungen des Verpackungsgesetzes (VerpackG)
DESCRIPTION:\nAm 01.01.2019 tritt das neue Verpackungsgesetz in Kraft und löst damit die alte Verpackungsverordnung ab.\nWir informieren Sie über alle Neuerungen und erläutern Ihnen die zahlreichen Pflichten\, welche auf die betroffenen Unternehmen zukommen.\nPREIS:\nbiosaxony-Mitglieder erhalten einen Rabatt von 4%.\nBIOSAXONY Mitglieder: 274 € (netto) NICHT-Mitglieder: 285 € (netto)\nBitte nutzen Sie für Ihre Anmeldung unsere hier verlinkte online Registrierung.\n
LOCATION:SLG Akademie GmbH\, Burgstädter Straße 20\, 09232 Hartmannsdorf
END:VEVENT
END:VCALENDAR
