BEGIN:VCALENDAR
VERSION:2.0
PRODID:-//YourOrganization//EventDownload//DE
CALSCALE:GREGORIAN
METHOD:PUBLISH
BEGIN:VEVENT
UID:69e4c8c2da47a@leapup.bitshifters.cloud
DTSTAMP:20260419T142122Z
DTSTART:20240318T000000Z
DTEND:20240320T000000Z
SUMMARY:Neue Trends im Mikrodruck: Materialien\, Methoden und Anwendungen
DESCRIPTION:Warum teilnehmen?\nDieser Workshop ist eine erstklassige Veranstaltung\, die sich mit den neuesten Fortschritten bei Mikrodrucktechnologien\, Materialien und Anwendungen befasst. Er bietet Fachleuten\, Forschern und Unternehmern eine hervorragende Plattform\, um ihre Arbeit vorzustellen\, Ideen auszutauschen und die Zusammenarbeit in diesem dynamischen Bereich zu fördern. Es ist ein Schmelztiegel der Ideen\, der technologische Fortschritte und Networking-Möglichkeiten fördert. Wir sind gespannt auf Ihren Beitrag und darauf\, wie Sie mit Ihren Erkenntnissen die Zukunft des Mikrodrucks gestalten können.>\nWas können Sie erwarten?\n\nInnovative Mikrodrucktechniken und Materialien\nSkalierung vom Labor- zum Industriemaßstab\nNachbehandlungstechniken für Mikrostrukturen\nGeschäftstrends\, Markteinblicke und Start-up-Aktivitäten\nAnwendungen in verschiedenen Branchen wie Life-Sciences\, Biotechnologie und Elektronik\n\nProgramm\nWas ist wann zu tun? - Wichtige Termine\n\nAbstract Submission Deadline: Dezember 31\, 2023\nBenachrichtigung über die Annahme: 31. Januar 2024\n\nCall for Abstracts\nIndustrieausstellung / Sponsoring \nRegistrieren Sie sich als Sponsor und erhalten Sie exklusive Vorteile wie z.B. 5min Pitch Präsentation\, Präsentationsstand während der gesamten Konferenz\, Logo auf Website &amp\; Print\, kostenlose Teilnahme für bis zu 3 Mitarbeiter.\nSponsoring\nJetzt anmelden
LOCATION:Hotel Elbresidenz\, Bad Schandau
END:VEVENT
END:VCALENDAR
