BEGIN:VCALENDAR
VERSION:2.0
PRODID:-//YourOrganization//EventDownload//DE
CALSCALE:GREGORIAN
METHOD:PUBLISH
BEGIN:VEVENT
UID:69e573dac78fc@leapup.bitshifters.cloud
DTSTAMP:20260420T023122Z
DTSTART:20221205T140000Z
DTEND:20221205T150000Z
SUMMARY:Neue Wertschöpfungsketten aus Biogasanlagen
DESCRIPTION:
END:VEVENT
END:VCALENDAR
