BEGIN:VCALENDAR
VERSION:2.0
PRODID:-//YourOrganization//EventDownload//DE
CALSCALE:GREGORIAN
METHOD:PUBLISH
BEGIN:VEVENT
UID:69e88cce760da@leapup.bitshifters.cloud
DTSTAMP:20260422T105438Z
DTSTART:20200115T173000Z
DTEND:20200115T190000Z
SUMMARY:Neujahrsempfang von biosaxony & Silicon Saxony
DESCRIPTION:Vielen Dank für Ihr Interesse an unserer Veranstaltung. Leider ist die Teilnehmergrenze erreicht.\nBitte schreiben Sie uns eine Email an stefan.uhlig@silicon-saxony.de\, um auf die Warteliste zu kommen. Sie erhalten eine Benachrichtigung\, sobald ein Platz frei wird.\nSilicon Saxony und biosaxony laden Sie herzlich zum Cross-Cluster-Neujahrsempfang am 15. Januar 2020 in das BioInnovationsZentrum Dresden ein. Gemeinsam mit Ihnen möchten wir das vergangene Jahr Revue passieren lassen\, einen Ausblick auf das Kommende geben und natürlich auf ein erfolgreiches neues Jahr anstoßen.\nDie Veranstaltung bietet Ihnen die Gelegenheit\, Partner der beiden Netzwerke Silicon Saxony und biosaxony sowie Vertreter aus Wirtschaft\, Wissenschaft und Politik wieder zu treffen und sich persönlich auszutauschen.\nEs erwartet Sie folgendes Programm:\n\n17:30 Uhr: Begrüßung mit Sektempfang\n18:00 Uhr: Grußworte und Neuigkeiten aus den Netzwerken Silicon Saxony und biosaxony\n\nAndré Hofmann\, Geschäftsführer biosaxony Management GmbH\nFrank Bösenberg\, Geschäftsführer Silicon Saxony Management GmbH\n„Ultraschallbasierte Flüssigkeitsüberwachung in der Biotechnologie und der Halbleiterindustrie“Daniel Thieme &amp\; Anika Baumhauer\, SONOTEC GmbH\n\n\n19:00 Uhr: kulinarisch und musikalisch begleitetes Get-together\n\nTermin: 15. Januar 2020 // ab 17:30 Uhr Ort: BioInnovationsZentrum\, 5. Etage\, Konferenzraum 1\, Tatzberg 47\, 01307 Dresden\nAnmeldung: Bitte melden Sie sich bis spätestens zum 08. Januar 2020 über die hier verlinkte online-Registrierung an.\nDie Teilnehmerzahl für die Veranstaltung ist begrenzt. Anmeldungen werden in der Reihenfolge ihres Eingangs berücksichtigt.\nHinweis: Die Veranstaltung ist kostenfrei. Jedoch wird für unentschuldigtes Nichterscheinen eine Verwaltungs- bzw. Organisationsgebühr in Höhe von 15\,00 EUR netto pro Person erhoben. Eine kostenfreie Absage kann bis spätestens 24 h vor Beginn der Veranstaltung via events@biosaxony.com erfolgen.  Bitte beachten Sie hierfür auch die Veranstaltungs-AGB des biosaxony e. V.
LOCATION:BioInnovationsZentrum\, 5. Etage\, Konferenzraum 1\, \, Tatzberg 47\, 01307  Dresden
END:VEVENT
END:VCALENDAR
