BEGIN:VCALENDAR
VERSION:2.0
PRODID:-//YourOrganization//EventDownload//DE
CALSCALE:GREGORIAN
METHOD:PUBLISH
BEGIN:VEVENT
UID:69e671aec3ce8@leapup.bitshifters.cloud
DTSTAMP:20260420T203422Z
DTSTART:20160629T000000Z
DTEND:20160701T000000Z
SUMMARY:Next-Generation Sequencing Data Analysis: A Practical Introduction
DESCRIPTION:Advance your research. Understand NGS and analyze sequenced data yourself. Learn the essential computing skills for NGS bioinformatics Understand NGS technology\, algorithms and data formats Use bioinformatics tools for handling sequencing data Perform first downstream analyses and find differentially expressed genes
END:VEVENT
END:VCALENDAR
