BEGIN:VCALENDAR
VERSION:2.0
PRODID:-//YourOrganization//EventDownload//DE
CALSCALE:GREGORIAN
METHOD:PUBLISH
BEGIN:VEVENT
UID:69e62ce4a523c@leapup.bitshifters.cloud
DTSTAMP:20260420T154052Z
DTSTART:20180418T190000Z
DTEND:20180418T210000Z
SUMMARY:Nobelpreisträger zu Gast an der TU Dresden - Ben Feringa
DESCRIPTION:
LOCATION:TU Dresden\, Bergstraße 64\, 01069  Dresden
END:VEVENT
END:VCALENDAR
