BEGIN:VCALENDAR
VERSION:2.0
PRODID:-//YourOrganization//EventDownload//DE
CALSCALE:GREGORIAN
METHOD:PUBLISH
BEGIN:VEVENT
UID:69e59e57a2f62@leapup.bitshifters.cloud
DTSTAMP:20260420T053239Z
DTSTART:20211202T140000Z
DTEND:20211202T150000Z
SUMMARY:Nur für die Schublade geforscht?
DESCRIPTION:Perspektiven f&uuml\;r die eigene Forschung und Karriereplanung durch wirtschaftliche Verwertung\nAus Anlass des Dies academicus der Universit&auml\;t Leipzig stellen sich das Innovationscluster Smart Medical Devices and Therapies des biosaxony e.V. und das Transferzentrums f&uuml\;r bioaktive Materie der Universit&auml\;t Leipzig vor und zeigen\, welches Potential die universit&auml\;re und regionale Forschungslandschaft bietet und wie dieses f&uuml\;r die regionale Wirtschaft nutzbar gemacht werden kann.\nUm sich den gro&szlig\;en Zukunftsfragen wie zunehmende Ressourcenknappheit\, planetare Grundsicherung oder medizinische Versorgung zu stellen\, m&uuml\;ssen Wirtschaftskreisl&auml\;ufe v&ouml\;llig neu gedacht und ausgerichtet werden. Daf&uuml\;r bedarf es innovativer Forschung\, welche die Entwicklung umweltvertr&auml\;glicher\, nachhaltiger und smarter Materialien\, Methoden und Technologien erm&ouml\;glicht.\nAber wie kann innovative Forschung in nachhaltige Wirtschaftszweige &uuml\;berf&uuml\;hrt werden? Wie wissenschaftliche Expertise f&uuml\;r personalisierte\, smarte Medizinprodukte und Therapien verwertet werden?\nUnd welche M&ouml\;glichkeiten ergeben sich daraus f&uuml\;r die pers&ouml\;nliche Forschungsarbeit und Karriereplanung?\nReferenten\nDr. Susanne Ebitsch (Gesch&auml\;ftsf&uuml\;hrerin des Zentrums f&uuml\;r bioaktive Materie b-ACTmatter\, Universit&auml\;t Leipzig) und Andr&eacute\; Hofmann (Gesch&auml\;ftsf&uuml\;hrer des biosaxony e. V.)\nAufgrund der pandemischen Lage findet die Veranstaltung digital via Zoom statt.\nAnmeldung \nAnmeldung per Anmeldeformular https://www.bbz.uni-leipzig.de/das-bbz-im-ueberblick/aktuelles/anmeldung/\noder per E-Mail an symposium@bbz.uni-leipzig.de\nDie Zugangsdaten zur Veranstaltung erhalten Sie im Anschluss an Ihre Anmeldung.
END:VEVENT
END:VCALENDAR
