BEGIN:VCALENDAR
VERSION:2.0
PRODID:-//YourOrganization//EventDownload//DE
CALSCALE:GREGORIAN
METHOD:PUBLISH
BEGIN:VEVENT
UID:69e4c9031777e@leapup.bitshifters.cloud
DTSTAMP:20260419T142227Z
DTSTART:20240807T123000Z
DTEND:20240807T140000Z
SUMMARY:Offene Märkte\, Offene Gesellschaften: Die Bedeutung von Demokratie und Weltoffenheit (Lunch Session)
DESCRIPTION:Liebe biosaxony-Mitglieder und Interessierte\,\nin einer globalisierten Welt bilden offene M&auml\;rkte und offene Gesellschaften die Basis f&uuml\;r wirtschaftlichen Erfolg und soziale Stabilit&auml\;t: Schlie&szlig\;lich f&ouml\;rdern sie den freien Austausch von Ideen\, G&uuml\;tern und Dienstleistungen und erm&ouml\;glichen Innovation und wirtschaftliches Wachstum. Doch diese Grundlagen sind (nicht nur) in Deutschland bedroht: Populismus\, Rechtsextremismus und politische Instabilit&auml\;t nehmen zu. Die derzeitigen Entwicklungen k&ouml\;nnen zu langfristigen gesellschaftlichen\, politischen und wirtschaftlichen Unsicherheiten f&uuml\;hren. Sie k&ouml\;nnen das Vertrauen in demokratische Institutionen und den Rechtsstaat nachhaltig untergraben\, soziale Spannungen verst&auml\;rken und Investitionen sowie Handel behindern. Das Image Deutschlands als attraktiver Arbeitsstandort kann so erheblich besch&auml\;digt werden. Gerade f&uuml\;r Hochtechnologie-Branchen\, deren wirtschaftliche Grundlage ma&szlig\;geblich auf einer internationalen Mitarbeiterschaft und dem ungehinderten Austausch von Wissen und Innovationen fu&szlig\;t\, sind offene M&auml\;rkte und Gesellschaften von essentieller Bedeutung.\nVor dem Hintergrund der bevorstehenden Landtagswahlen in Sachsen sind Unternehmen besonders gefordert\, nicht nur ihre wirtschaftliche Rolle\, sondern auch ihre gesellschaftspolitische Verantwortung zu reflektieren. Sie m&uuml\;ssen sich fragen\, wie sie sich aktiv f&uuml\;r offene Gesellschaften und Demokratie &ndash\; als Basis ihrer Gesch&auml\;ftst&auml\;tigkeit &ndash\; einsetzen k&ouml\;nnen. Doch wie kann dieses Engagement aussehen? Welche Handlungsspielr&auml\;ume bestehen\, und wo liegen die Grenzen? Wie weit k&ouml\;nnen\, d&uuml\;rfen und sollten sich Unternehmen positionieren? Wie k&ouml\;nnen sie sicherzustellen\, dass ihre gesellschaftspolitischen und darauf abgestimmten unternehmensinternen Aktivit&auml\;ten nicht ungewollt gesch&auml\;ftssch&auml\;digend wirken?\nMarkus Scholz\, ist Professor f&uuml\;r Betriebswirtschaftslehre mit einem Schwerpunkt in Responsible Management an der Technischen Universit&auml\;t Dresden. Er wird die Fragen beleuchten\, was Weltoffenheit f&uuml\;r die Wirtschaft bedeutet und welche Auswirkungen derzeitige politische Entwicklungen auf den Wirtschaftsstandort Deutschland haben k&ouml\;nnen. Anhand konkreter Beispiele\, auch aus anderen L&auml\;ndern\, wird er aufzeigen\, welche Strategien Unternehmen verfolgen k&ouml\;nnen\, um gesellschafts-politisch aktiv zu werden. Er wird dabei nicht nur die moralische Verpflichtung\, sondern auch die &ouml\;konomischen Vorteile eines proaktiven gesellschaftspolitischen Engagements betonen.\nScholz forscht intensiv in den Bereichen Innovation und Transformation\, Strategisches Management und Wirtschaftsethik. Sein besonderes Interesse gilt den Themen Unternehmen und Menschenrechte sowie politisches Engagement und politische Verantwortung von Unternehmen. Scholz bringt seine umfangreiche Expertise in der Zusammenarbeit mit multinationalen Konzernen\, Familienunternehmen\, Regierungs- und Nichtregierungsorganisationen in seinen Vortrag ein.\nMelden Sie sich hier kostenlos an!
END:VEVENT
END:VCALENDAR
