BEGIN:VCALENDAR
VERSION:2.0
PRODID:-//YourOrganization//EventDownload//DE
CALSCALE:GREGORIAN
METHOD:PUBLISH
BEGIN:VEVENT
UID:69e5c9e35cf35@leapup.bitshifters.cloud
DTSTAMP:20260420T083827Z
DTSTART:20201015T124500Z
DTEND:20201016T121500Z
SUMMARY:Online Conference: Personalising Health Industry
DESCRIPTION:Regions4PerMed hat das Ziel\, die Regionen Europas f&uuml\;r das gro&szlig\;e Potenzial personalisierter Medizin und Gesundheit zu sensibilisieren.\nWeltweit entwerfen Initiativen zur personalisierten Medizin ein Bild der Zukunft\, in der die Behandlung von Krankheiten ganz auf die individuellen Eigenschaften der einzelnen Patienten zugeschnitten ist. Eine Zukunft wird denkbar\, in der personalisierte Aussagen zur Verlaufsentwicklung und zur Pr&auml\;vention dazu f&uuml\;hren\, dass Gesundheit und Lebensqualit&auml\;t sich im Vergleich zu heute noch einmal sp&uuml\;rbar verbessern lassen und in der personalisierte Gesundheitsf&uuml\;rsorge im Alltag von Patienten und B&uuml\;rgern selbstverst&auml\;ndlich ist.\nDoch w&auml\;hrend die Wissenszuw&auml\;chse der medizinischen Forschung in einer nie dagewesenen Geschwindigkeit voranschreiten und immer neue Innovationen und Omics-Technologien hervorbringen\, verl&auml\;uft die &Uuml\;bersetzung in die Praxis nicht im gleichen Tempo. Tats&auml\;chlich ist die Translation des wissenschaftlichen Fortschritts f&uuml\;r die Gesundheitsindustrien\, wie Pharma- Diagnostik- und Biotechunternehmen\, aufgrund des Paradigmenwechsels mit zahlreichen H&uuml\;rden behaftet\, die die gesamte Wertsch&ouml\;pfungskette betreffen.\nSo ist der Zugang zu gesundheitsbezogenen Daten\, die aus unterschiedlichen Quellen stammen\, ihre Sammlung\, Zusammenf&uuml\;hrung und Nutzung\, inklusive der Integration von Real-World-Evidence\, ein wichtiges Thema. Entwicklungsprozesse werden in personalisierten Settings komplexer\, u.a. da relevante Patientengruppen kleiner werden\, so dass traditionelle klinische Studien erschwert und neue Ans&auml\;tze erforderlich werden. F&uuml\;r Akteure in den betroffenen Branchen stehen neue Gesch&auml\;ftsmodelle im Raum\, da Personalisierung eine st&auml\;rkere Marktfragmentierung und sich wandelnde Patientenbed&uuml\;rfnisse bedeuten kann. Neue Lieferketten entstehen\, die den Marktzugang ver&auml\;ndern\; es stellen sich Fragen nach Kosten und Bewertung\, sowie\, ob Start-ups und KMU mit Ausrichtung auf Personalisierte Medizin eine andere Infrastruktur ben&ouml\;tigen\, um erfolgreich sein zu k&ouml\;nnen. Und es kann gefragt werden\, ob Patienten eine andere Form der Unterst&uuml\;tzung ben&ouml\;tigen\, um sich in einem System der st&auml\;rker personalisierten Gesundheitsf&uuml\;rsorge zurechtzufinden.\nAgenda\nRegistrierung
END:VEVENT
END:VCALENDAR
